BEGIN:VCALENDAR
VERSION:2.0
PRODID:-//My ABBC - ECPv6.13.2.1//NONSGML v1.0//EN
CALSCALE:GREGORIAN
METHOD:PUBLISH
X-ORIGINAL-URL:https://myabbc.ca
X-WR-CALDESC:Events for My ABBC
REFRESH-INTERVAL;VALUE=DURATION:PT1H
X-Robots-Tag:noindex
X-PUBLISHED-TTL:PT1H
BEGIN:VTIMEZONE
TZID:UTC
BEGIN:STANDARD
TZOFFSETFROM:+0000
TZOFFSETTO:+0000
TZNAME:UTC
DTSTART:20220101T000000
END:STANDARD
END:VTIMEZONE
BEGIN:VEVENT
DTSTART;TZID=UTC:20220302T180000
DTEND;TZID=UTC:20220302T200000
DTSTAMP:20260419T221517
CREATED:20220226T154707Z
LAST-MODIFIED:20220226T154708Z
UID:5947-1646244000-1646251200@myabbc.ca
SUMMARY:Men's Wellness Virtual-Group Services
DESCRIPTION:A place males come together.  Safe and Confidential\, Support and Friendships every Wednesday evening.
URL:https://myabbc.ca/event/mens-wellness-virtual-group-services/2022-03-02/
CATEGORIES:Calendar
ATTACH;FMTTYPE=image/jpeg:https://myabbc.ca/wp-content/uploads/2022/02/274476001_279151914346016_7218469165305599886_n.jpg
END:VEVENT
END:VCALENDAR