BEGIN:VCALENDAR
VERSION:2.0
PRODID:-//My ABBC - ECPv6.13.2.1//NONSGML v1.0//EN
CALSCALE:GREGORIAN
METHOD:PUBLISH
X-WR-CALNAME:My ABBC
X-ORIGINAL-URL:https://myabbc.ca
X-WR-CALDESC:Events for My ABBC
REFRESH-INTERVAL;VALUE=DURATION:PT1H
X-Robots-Tag:noindex
X-PUBLISHED-TTL:PT1H
BEGIN:VTIMEZONE
TZID:UTC
BEGIN:STANDARD
TZOFFSETFROM:+0000
TZOFFSETTO:+0000
TZNAME:UTC
DTSTART:20230101T000000
END:STANDARD
END:VTIMEZONE
BEGIN:VEVENT
DTSTART;TZID=UTC:20250510T080000
DTEND;TZID=UTC:20250510T170000
DTSTAMP:20260420T071810
CREATED:20220424T212029Z
LAST-MODIFIED:20220424T212029Z
UID:6594-1746864000-1746896400@myabbc.ca
SUMMARY:Bear Witness Day
DESCRIPTION:May 10 is Spirit Bear’s birthday and an important date in the history of Jordan’s Principle at the Canadian Human Rights Tribunal. The Tribunal’s first non-compliance order called for Canada to fully implement Jordan’s Principle by May 10\, 2016. Unfortunately\, it took several more years and many non-compliance orders (September 2016\, May 2017\, November 2017) against Canada before any real progress was made. \n\n\n\nJordan’s Principle (www.jordansprinciple.ca) is a child first principle and legal rule named in memory of Jordan River Anderson. It ensures First Nations children receive the services and supports they need when they need them. \n\n\n\nShow your support and “Bear Witness” to ensure Jordan’s Principle is fully implemented. Here are some things you can do at home\, or within your organization:  \n\n\n\nStep One: Education \n\n\n\nStart by reading Spirit Bear and Children Make History for free so you can learn more about Spirit Bear and Jordan’s Principle! Take part in watching the film\, Spirit Bear and Children Make History! It will be available to watch on the link here from May 1 – May 11\, 2022! Save the link and come back to watch the film on Vimeo on May 1\, 2022!Learn about the importance of Jordan’s Principle by reading Spirit Bear’s Guide to the Truth and Reconciliation Commission Calls to ActionWatch the documentary Jordan River Anderson\, The Messenger to learn more about Jordan River Anderson and Jordan’s Principle. Available to watch for free through the National Film Board!\n\n\n\nStep Two: Spread Awareness \n\n\n\nSpread the word and post photos on social media using the hashtags #JordansPrinciple and #BearWitnessDay and tag us on Twitter at @SpiritBearand @CaringSociety\, on Instagram through @SpiritBearandFriends\, and follow and like our page on Facebook!Host an online teddy bear tea party or bear birthday party to honour Jordan River Anderson and to learn about Jordan’s Principle.Reconciliation is all of us! Read this information sheet for ways you can help make a difference.Hang out with your bears or favourite stuffed animal at home! Ask loved ones in your home to participate too! You can let your neighbours know that you are participating in Bear Witness Day by placing your teddy bear or a drawing of a bear in the window.\n\n\n\nStep Three: Take Action \n\n\n\nReach out to provincial and territorial governments to make Spirit Bear Day a recognized holiday in every province and territory! So far\, the province of Manitoba is the only province that has began the process of enacting Spirit Bear Day as a recognized holiday on May 10! Please click here to learn more about the Act in Manitoba for how you can take part in making this day recognized in all provinces and territories! Create your own #SpiritBearPlan and write to your local and federal governments! First Nations children and families living on reserves and in the Territories receive public services funded by the federal government. Since confederation\, these services have fallen significantly short of what other Canadians receive. This injustice needs to end and Spirit Bear’s Plan will do just that! Here is his plan\, so that you and your community can fully implement it too!  \n\n\n\nAs we look at past year’s Bear Witness Day\, feel free to click on this link to hear Senator Brian Francis make a statement on Bear Witness Day 2019\, honouring Jordan River Anderson and expressing support for Jordan’s Principle.
URL:https://myabbc.ca/event/bear-witness-day/2025-05-10/
LOCATION:Ontario
CATEGORIES:Calendar
ATTACH;FMTTYPE=image/png:https://myabbc.ca/wp-content/uploads/2022/01/bwda_eng.png
END:VEVENT
BEGIN:VEVENT
DTSTART;TZID=UTC:20240529T160000
DTEND;TZID=UTC:20240529T180000
DTSTAMP:20260420T071810
CREATED:20240429T144310Z
LAST-MODIFIED:20240429T144312Z
UID:6585-1716998400-1717005600@myabbc.ca
SUMMARY:ABBC Early Years Health Fair
DESCRIPTION:
URL:https://myabbc.ca/event/abbc-early-years-health-fair/
LOCATION:Chippewa Community Centre\, 326 Chippewa Road\, Muncey\, Ontario\, N0L 1Y0\, Canada
CATEGORIES:Calendar
ORGANIZER;CN="Aboriginal Babies and Beyond Coalition":MAILTO:info@myabbc.local
END:VEVENT
BEGIN:VEVENT
DTSTART;TZID=UTC:20240510T080000
DTEND;TZID=UTC:20240510T170000
DTSTAMP:20260420T071810
CREATED:20220424T212029Z
LAST-MODIFIED:20220424T212029Z
UID:6271-1715328000-1715360400@myabbc.ca
SUMMARY:Bear Witness Day
DESCRIPTION:May 10 is Spirit Bear’s birthday and an important date in the history of Jordan’s Principle at the Canadian Human Rights Tribunal. The Tribunal’s first non-compliance order called for Canada to fully implement Jordan’s Principle by May 10\, 2016. Unfortunately\, it took several more years and many non-compliance orders (September 2016\, May 2017\, November 2017) against Canada before any real progress was made. \n\n\n\nJordan’s Principle (www.jordansprinciple.ca) is a child first principle and legal rule named in memory of Jordan River Anderson. It ensures First Nations children receive the services and supports they need when they need them. \n\n\n\nShow your support and “Bear Witness” to ensure Jordan’s Principle is fully implemented. Here are some things you can do at home\, or within your organization:  \n\n\n\nStep One: Education \n\n\n\nStart by reading Spirit Bear and Children Make History for free so you can learn more about Spirit Bear and Jordan’s Principle! Take part in watching the film\, Spirit Bear and Children Make History! It will be available to watch on the link here from May 1 – May 11\, 2022! Save the link and come back to watch the film on Vimeo on May 1\, 2022!Learn about the importance of Jordan’s Principle by reading Spirit Bear’s Guide to the Truth and Reconciliation Commission Calls to ActionWatch the documentary Jordan River Anderson\, The Messenger to learn more about Jordan River Anderson and Jordan’s Principle. Available to watch for free through the National Film Board!\n\n\n\nStep Two: Spread Awareness \n\n\n\nSpread the word and post photos on social media using the hashtags #JordansPrinciple and #BearWitnessDay and tag us on Twitter at @SpiritBearand @CaringSociety\, on Instagram through @SpiritBearandFriends\, and follow and like our page on Facebook!Host an online teddy bear tea party or bear birthday party to honour Jordan River Anderson and to learn about Jordan’s Principle.Reconciliation is all of us! Read this information sheet for ways you can help make a difference.Hang out with your bears or favourite stuffed animal at home! Ask loved ones in your home to participate too! You can let your neighbours know that you are participating in Bear Witness Day by placing your teddy bear or a drawing of a bear in the window.\n\n\n\nStep Three: Take Action \n\n\n\nReach out to provincial and territorial governments to make Spirit Bear Day a recognized holiday in every province and territory! So far\, the province of Manitoba is the only province that has began the process of enacting Spirit Bear Day as a recognized holiday on May 10! Please click here to learn more about the Act in Manitoba for how you can take part in making this day recognized in all provinces and territories! Create your own #SpiritBearPlan and write to your local and federal governments! First Nations children and families living on reserves and in the Territories receive public services funded by the federal government. Since confederation\, these services have fallen significantly short of what other Canadians receive. This injustice needs to end and Spirit Bear’s Plan will do just that! Here is his plan\, so that you and your community can fully implement it too!  \n\n\n\nAs we look at past year’s Bear Witness Day\, feel free to click on this link to hear Senator Brian Francis make a statement on Bear Witness Day 2019\, honouring Jordan River Anderson and expressing support for Jordan’s Principle.
URL:https://myabbc.ca/event/bear-witness-day/2024-05-10/
LOCATION:Ontario
CATEGORIES:Calendar
ATTACH;FMTTYPE=image/png:https://myabbc.ca/wp-content/uploads/2022/01/bwda_eng.png
END:VEVENT
BEGIN:VEVENT
DTSTART;TZID=UTC:20240504T120000
DTEND;TZID=UTC:20240504T120000
DTSTAMP:20260420T071810
CREATED:20240429T143347Z
LAST-MODIFIED:20240429T143349Z
UID:6579-1714824000-1714824000@myabbc.ca
SUMMARY:REDress Day Maamigin: National Day of Awareness
DESCRIPTION:On May 5\, 2024\, we will come together from 12:30 p.m. to 4:30 p.m. to honor and bringing awareness to Missing and Murdered Indigenous Women\, Girls\, and Two-Spirit People (MMIWG2S+) at Victoria Park in London\, Ontario. REDress Day is a time for remembrance\, advocacy and bringing awareness to the systemic issues leading to violence towards Indigenous People across Turtle Island and beyond. \n\n\n\nActivities at the event will be centered around bringing the community together by providing a space for education\, advocacy\, and remembrance.  \n\n\n\nThis event is a BYOC (Bring Your Own Chair or Blanket) \n\n\n\nEvent Agenda:12:30pm-12:40: Opening Prayer12:40pm-1:10pm: Open-Mic for organizations and community members to speak and share stories1:15pm-1:45pm: Drum Group (to be announced) \n\n\n\nActivities through out the park:Free Food and Snacks (while supplies lasts)Community Art Piece ActivityCommunity Org. Information BoothsIndigenous VendorsREDress Project display hanging throughout the park; Each Red Dress tells a story—a story of resilience\, strength\, and the relentless pursuit of justice.  \n\n\n\nJoin us on National Day of Awareness on MMIWG2S+ as we honor the past\, stand in solidarity in the present\, and advocate for a safer and more just future for all. \n\n\n\nDate: May 5\, 2024Time: 12:30-4:30pmLocation: Victoria Park\, London\, Ontario  \n\n\n\nIf you are an Indigenous Organization or Indigenous Vendor and would like to set up a booth please email amorr246@uwo.ca and tsoucy@uwo.ca
URL:https://myabbc.ca/event/redress-day-maamigin-national-day-of-awareness/
LOCATION:Ontario
CATEGORIES:Calendar
END:VEVENT
BEGIN:VEVENT
DTSTART;TZID=UTC:20240503T110000
DTEND;TZID=UTC:20240503T150000
DTSTAMP:20260420T071810
CREATED:20240429T143753Z
LAST-MODIFIED:20240429T143754Z
UID:6581-1714734000-1714748400@myabbc.ca
SUMMARY:Craft Friday's
DESCRIPTION:Join us in the Elder’s Lounge nearly every Friday from 11am-3pm for a special gathering centered around community care.What we offer:– A template to kickstart your creativity– All materials needed to craft– Lunch and drinksAll are welcome to join! Craft alongside our passionate staff\, meet wonderful community members\, and express yourself. Bring your friends and family as well!Remember\, Craft Fridays isn’t just about crafting – it’s about community\, connection\, and a whole lot of fun! With a different craft lined up for each Friday\, there’s always something new to look forward to.Heads Up: Organizations wishing to bring groups of 5+ should email craftfridays@atlohsa.com to secure their spots.We’re excited to craft with you! 
URL:https://myabbc.ca/event/craft-fridays/
LOCATION:Atlohsa Family Healing Services\, 343 Richmond Street\, London\, Ontario\, N6B 25S\, Canada
CATEGORIES:Calendar
END:VEVENT
BEGIN:VEVENT
DTSTART;TZID=UTC:20240319T080000
DTEND;TZID=UTC:20240319T170000
DTSTAMP:20260420T071810
CREATED:20240227T160449Z
LAST-MODIFIED:20240227T160450Z
UID:6563-1710835200-1710867600@myabbc.ca
SUMMARY:Basket Making
DESCRIPTION:
URL:https://myabbc.ca/event/basket-making/
LOCATION:Atlohsa Family Healing Services\, 343 Richmond Street\, London\, Ontario\, N6B 25S\, Canada
CATEGORIES:Calendar
END:VEVENT
BEGIN:VEVENT
DTSTART;TZID=UTC:20240311T080000
DTEND;TZID=UTC:20240315T170000
DTSTAMP:20260420T071810
CREATED:20240227T161154Z
LAST-MODIFIED:20240227T161156Z
UID:6575-1710144000-1710522000@myabbc.ca
SUMMARY:Dishpan Ziibiing - March Break Camp
DESCRIPTION:
URL:https://myabbc.ca/event/dishpan-ziibiing-march-break-camp/
LOCATION:Chippewa Community Centre\, 326 Chippewa Road\, Muncey\, Ontario\, N0L 1Y0\, Canada
CATEGORIES:Calendar
END:VEVENT
BEGIN:VEVENT
DTSTART;TZID=UTC:20240311T080000
DTEND;TZID=UTC:20240315T170000
DTSTAMP:20260420T071810
CREATED:20240227T160829Z
LAST-MODIFIED:20240227T160830Z
UID:6569-1710144000-1710522000@myabbc.ca
SUMMARY:Nshwaasnangong - March Break Program
DESCRIPTION:
URL:https://myabbc.ca/event/nshwaasnangong-march-break-program/
LOCATION:Nshwaasnangong Child Care & Family Centre\, 449 Hill Street\, London\, Ontario\, N6B 1E5\, Canada
CATEGORIES:Calendar
ORGANIZER;CN="Nshwaasnangong Child Care & Family Centre":MAILTO:nshwaasnangong@soahac.on.ca
END:VEVENT
BEGIN:VEVENT
DTSTART;TZID=UTC:20240311T080000
DTEND;TZID=UTC:20240315T170000
DTSTAMP:20260420T071810
CREATED:20240227T160700Z
LAST-MODIFIED:20240227T160701Z
UID:6566-1710144000-1710522000@myabbc.ca
SUMMARY:March Break Activities - Oneida
DESCRIPTION:
URL:https://myabbc.ca/event/march-break-activities-oneida/
LOCATION:Ontario
CATEGORIES:Calendar
END:VEVENT
BEGIN:VEVENT
DTSTART;TZID=UTC:20240228T080000
DTEND;TZID=UTC:20240327T170000
DTSTAMP:20260420T071810
CREATED:20240227T160117Z
LAST-MODIFIED:20240227T160118Z
UID:6560-1709107200-1711558800@myabbc.ca
SUMMARY:Parent/Guardian Anishinaabemowin Classes
DESCRIPTION:
URL:https://myabbc.ca/event/parent-guardian-anishinaabemowin-classes/
LOCATION:Enji-Maajtaawaad Early Years Program\, 330 Chippewa Road\, Muncey\, Ontario\, N0L 1Y0\, Canada
CATEGORIES:Calendar
END:VEVENT
BEGIN:VEVENT
DTSTART;TZID=UTC:20240226T080000
DTEND;TZID=UTC:20240302T170000
DTSTAMP:20260420T071810
CREATED:20240227T161005Z
LAST-MODIFIED:20240227T161007Z
UID:6572-1708934400-1709398800@myabbc.ca
SUMMARY:Nshwaasnangong - Feb 26-March 2 Programming
DESCRIPTION:
URL:https://myabbc.ca/event/nshwaasnangong-feb-26-march-2-programming/
LOCATION:Nshwaasnangong Child Care & Family Centre\, 449 Hill Street\, London\, Ontario\, N6B 1E5\, Canada
CATEGORIES:Calendar
ORGANIZER;CN="Nshwaasnangong Child Care & Family Centre":MAILTO:nshwaasnangong@soahac.on.ca
END:VEVENT
BEGIN:VEVENT
DTSTART;TZID=UTC:20240214T180000
DTEND;TZID=UTC:20240214T220000
DTSTAMP:20260420T071810
CREATED:20240207T131926Z
LAST-MODIFIED:20240207T132006Z
UID:6555-1707933600-1707948000@myabbc.ca
SUMMARY:Round Dance Social - National Day of Action of Missing & Murdered Indigenous Women\, Girls and Two Spirit People
DESCRIPTION:Save the date! On February 14th\, let us come together to honour the Missing and Murdered Indigenous Women\, Girls\, and Two-Spirit People (MMIWG2S+) with a Round Dance Social gathering. This day is an opportunity to remember those who have been taken from us and to show our support for the efforts to keep their memory alive. \n\n\n\nAll are welcome to join us anytime between 6pm and 10pm at the N’amerind Friendship Centre located at 260 Colborne St\, London ON. The evening’s activities will include singing\, drumming\, Strawberry teachings\, writing messages of remembrance on Red Dress memorial cards\, and participating in a Round Dance. It’s also a chance for meaningful connection among community members. Feel free to bring your drums\, rattles\, and shakers to share songs. \n\n\n\nSpread the word and invite your friends\, family\, and networks to this significant gathering. We are looking forward to seeing you there.
URL:https://myabbc.ca/event/round-dance-social-national-day-of-action-of-missing-murdered-indigenous-women-girls-and-two-spirit-people/
LOCATION:Namerind Friendship Centre\, 260 Colborne Street\, London\, Ontario\, N6B 25S\, Canada
CATEGORIES:Calendar
END:VEVENT
BEGIN:VEVENT
DTSTART;TZID=UTC:20240201T080000
DTEND;TZID=UTC:20240229T170000
DTSTAMP:20260420T071810
CREATED:20240207T131410Z
LAST-MODIFIED:20240207T131412Z
UID:6552-1706774400-1709226000@myabbc.ca
SUMMARY:Oneida Head Start Family Resource Centre - Midwinter Calendar
DESCRIPTION:
URL:https://myabbc.ca/event/oneida-head-start-family-resource-centre-midwinter-calendar/
LOCATION:Oneida Head Start Family Resource Centre\, 2213 Elm Ave\, Southwold\, Ontario\, N0L 2G0\, Canada
CATEGORIES:Calendar
ATTACH;FMTTYPE=image/jpeg:https://myabbc.ca/wp-content/uploads/2022/02/228668632_373011094451107_7170079834598586914_n.jpg
END:VEVENT
BEGIN:VEVENT
DTSTART;TZID=UTC:20240201T080000
DTEND;TZID=UTC:20240229T170000
DTSTAMP:20260420T071810
CREATED:20240207T131146Z
LAST-MODIFIED:20240207T131148Z
UID:6549-1706774400-1709226000@myabbc.ca
SUMMARY:Makwa Giizis 2024 - Enji Maajtaawaad EarlyON
DESCRIPTION:
URL:https://myabbc.ca/event/makwa-giizis-2024-enji-maajtaawaad-earlyon/
LOCATION:Enji-Maajtaawaad Early Years Program\, 330 Chippewa Road\, Muncey\, Ontario\, N0L 1Y0\, Canada
CATEGORIES:Calendar
ATTACH;FMTTYPE=image/jpeg:https://myabbc.ca/wp-content/uploads/2022/02/Unknown-2.jpeg
END:VEVENT
BEGIN:VEVENT
DTSTART;TZID=UTC:20230705T120000
DTEND;TZID=UTC:20230705T180000
DTSTAMP:20260420T071810
CREATED:20230529T120145Z
LAST-MODIFIED:20230529T120146Z
UID:6533-1688558400-1688580000@myabbc.ca
SUMMARY:A.B.B.C. EARLY YEARS HEALTH FAIR
DESCRIPTION:
URL:https://myabbc.ca/event/a-b-b-c-early-years-health-fair/
LOCATION:Namerind Friendship Centre\, 260 Colborne Street\, London\, Ontario\, N6B 25S\, Canada
CATEGORIES:Calendar
ATTACH;FMTTYPE=image/png:https://myabbc.ca/wp-content/uploads/revslider/ABBC-Logo-Concept.png
END:VEVENT
BEGIN:VEVENT
DTSTART;TZID=UTC:20230629T100000
DTEND;TZID=UTC:20230629T123000
DTSTAMP:20260420T071810
CREATED:20230529T115703Z
LAST-MODIFIED:20230529T115705Z
UID:6525-1688032800-1688041800@myabbc.ca
SUMMARY:Mini Pow Wow Nshwaasnangong
DESCRIPTION:Please note that they time has changed from 1:30-3:30 to 10:00am – 12:30pm
URL:https://myabbc.ca/event/mini-pow-wow-nshwaasnangong/
LOCATION:Nshwaasnangong Child Care & Family Centre\, 449 Hill Street\, London\, Ontario\, N6B 1E5\, Canada
CATEGORIES:Calendar
ORGANIZER;CN="Nshwaasnangong Child Care & Family Centre":MAILTO:nshwaasnangong@soahac.on.ca
END:VEVENT
BEGIN:VEVENT
DTSTART;TZID=UTC:20230601T110000
DTEND;TZID=UTC:20230601T140000
DTSTAMP:20260420T071810
CREATED:20230518T120830Z
LAST-MODIFIED:20230518T120832Z
UID:6519-1685617200-1685628000@myabbc.ca
SUMMARY:N'Amerind Annual Children's Powwow
DESCRIPTION:
URL:https://myabbc.ca/event/namerind-annual-childrens-powwow/
LOCATION:1601 Wave Street\, London\, ON
CATEGORIES:Calendar
END:VEVENT
BEGIN:VEVENT
DTSTART;TZID=UTC:20230601T080000
DTEND;TZID=UTC:20230630T170000
DTSTAMP:20260420T071810
CREATED:20230612T181211Z
LAST-MODIFIED:20230612T181212Z
UID:6540-1685606400-1688144400@myabbc.ca
SUMMARY:Enji Maajtaawaad Child and Family EarlyON - Odemin Giizis
DESCRIPTION:
URL:https://myabbc.ca/event/enji-maajtaawaad-child-and-family-earlyon-odemin-giizis/
LOCATION:Enji-Maajtaawaad Early Years Program\, 330 Chippewa Road\, Muncey\, Ontario\, N0L 1Y0\, Canada
CATEGORIES:Calendar
END:VEVENT
BEGIN:VEVENT
DTSTART;TZID=UTC:20230601T080000
DTEND;TZID=UTC:20230630T170000
DTSTAMP:20260420T071810
CREATED:20230612T181018Z
LAST-MODIFIED:20230612T181020Z
UID:6537-1685606400-1688144400@myabbc.ca
SUMMARY:Éenda Noochiikiing Child & Family EarlyON Calendar - Wteehiimiiwi Niipaahum
DESCRIPTION:
URL:https://myabbc.ca/event/eenda-noochiikiing-child-family-earlyon-calendar-wteehiimiiwi-niipaahum/
LOCATION:Éenda Noochiikiing Child Care Centre\, 327 Jubliee Rd.\, Muncey\, Ontario\, N0L 1Y0\, Canada
CATEGORIES:Calendar
END:VEVENT
BEGIN:VEVENT
DTSTART;TZID=UTC:20230529T080000
DTEND;TZID=UTC:20230602T170000
DTSTAMP:20260420T071810
CREATED:20230529T115909Z
LAST-MODIFIED:20230529T115910Z
UID:6528-1685347200-1685725200@myabbc.ca
SUMMARY:Nshwaasnangong Weekly Program
DESCRIPTION:
URL:https://myabbc.ca/event/nshwaasnangong-weekly-program/
LOCATION:Nshwaasnangong Child Care & Family Centre\, 449 Hill Street\, London\, Ontario\, N6B 1E5\, Canada
CATEGORIES:Calendar
END:VEVENT
BEGIN:VEVENT
DTSTART;TZID=UTC:20230522T080000
DTEND;TZID=UTC:20230526T170000
DTSTAMP:20260420T071810
CREATED:20230518T120145Z
LAST-MODIFIED:20230518T120146Z
UID:6516-1684742400-1685120400@myabbc.ca
SUMMARY:Nshwaasnangong Family Centre - Calendar
DESCRIPTION:
URL:https://myabbc.ca/event/nshwaasnangong-family-centre-calendar/
LOCATION:Nshwaasnangong Child Care & Family Centre\, 449 Hill Street\, London\, Ontario\, N6B 1E5\, Canada
CATEGORIES:Calendar
ORGANIZER;CN="Nshwaasnangong Child Care & Family Centre":MAILTO:nshwaasnangong@soahac.on.ca
END:VEVENT
BEGIN:VEVENT
DTSTART;TZID=UTC:20230515T080000
DTEND;TZID=UTC:20230519T170000
DTSTAMP:20260420T071810
CREATED:20230518T120003Z
LAST-MODIFIED:20230518T120004Z
UID:6513-1684137600-1684515600@myabbc.ca
SUMMARY:Oneida Family Resource Centre - Weekly Calendar
DESCRIPTION:
URL:https://myabbc.ca/event/oneida-family-resource-centre-weekly-calendar/
LOCATION:Oneida Head Start Family Resource Centre\, 2213 Elm Ave\, Southwold\, Ontario\, N0L 2G0\, Canada
CATEGORIES:Calendar
ATTACH;FMTTYPE=image/jpeg:https://myabbc.ca/wp-content/uploads/2022/02/228668632_373011094451107_7170079834598586914_n.jpg
END:VEVENT
BEGIN:VEVENT
DTSTART;TZID=UTC:20230501T080000
DTEND;TZID=UTC:20230531T170000
DTSTAMP:20260420T071810
CREATED:20230518T115801Z
LAST-MODIFIED:20230518T115803Z
UID:6510-1682928000-1685552400@myabbc.ca
SUMMARY:Éenda Noochiikiing EarlyON Calendar
DESCRIPTION:
URL:https://myabbc.ca/event/eenda-noochiikiing-earlyon-calendar/
LOCATION:Enji-Maajtaawaad Early Years Program\, 330 Chippewa Road\, Muncey\, Ontario\, N0L 1Y0\, Canada
CATEGORIES:Calendar
END:VEVENT
BEGIN:VEVENT
DTSTART;TZID=UTC:20230501T080000
DTEND;TZID=UTC:20230531T170000
DTSTAMP:20260420T071810
CREATED:20230518T115515Z
LAST-MODIFIED:20230518T115516Z
UID:6507-1682928000-1685552400@myabbc.ca
SUMMARY:Enji Maajtaawaad EarlyON Calendar
DESCRIPTION:
URL:https://myabbc.ca/event/enji-maajtaawaad-earlyon-calendar/
LOCATION:Enji-Maajtaawaad Early Years Program\, 330 Chippewa Road\, Muncey\, Ontario\, N0L 1Y0\, Canada
CATEGORIES:Calendar
ATTACH;FMTTYPE=image/jpeg:https://myabbc.ca/wp-content/uploads/2022/02/Unknown-2.jpeg
END:VEVENT
BEGIN:VEVENT
DTSTART;TZID=UTC:20230313T080000
DTEND;TZID=UTC:20230317T170000
DTSTAMP:20260420T071810
CREATED:20230310T191306Z
LAST-MODIFIED:20230310T191307Z
UID:6495-1678694400-1679072400@myabbc.ca
SUMMARY:Éenda Noochiikiing Child and Family EarlyON
DESCRIPTION:
URL:https://myabbc.ca/event/eenda-noochiikiing-child-and-family-earlyon/
LOCATION:Ontario
CATEGORIES:Calendar
END:VEVENT
BEGIN:VEVENT
DTSTART;TZID=UTC:20230301T080000
DTEND;TZID=UTC:20230331T170000
DTSTAMP:20260420T071810
CREATED:20230310T194058Z
LAST-MODIFIED:20230310T194216Z
UID:6502-1677657600-1680282000@myabbc.ca
SUMMARY:Ziibaakdoke Giizis - Enji Maajtaawaad Child and Family EarlyON
DESCRIPTION:
URL:https://myabbc.ca/event/ziibaakdoke-giizis-enji-maajtaawaad-child-and-family-earlyon/
LOCATION:Enji-Maajtaawaad Early Years Program\, 330 Chippewa Road\, Muncey\, Ontario\, N0L 1Y0\, Canada
CATEGORIES:Calendar
END:VEVENT
BEGIN:VEVENT
DTSTART;TZID=UTC:20230301T080000
DTEND;TZID=UTC:20230331T170000
DTSTAMP:20260420T071810
CREATED:20230310T193303Z
LAST-MODIFIED:20230310T193304Z
UID:6498-1677657600-1680282000@myabbc.ca
SUMMARY:Aahaasuwi Niipaahum - Éenda Noochiikiing Child and Family EarlyON
DESCRIPTION:
URL:https://myabbc.ca/event/aahaasuwi-niipaahum-eenda-noochiikiing-child-and-family-earlyon/
LOCATION:Ontario
CATEGORIES:Calendar
END:VEVENT
BEGIN:VEVENT
DTSTART;TZID=UTC:20230209T080000
DTEND;TZID=UTC:20230209T170000
DTSTAMP:20260420T071810
CREATED:20230206T165026Z
LAST-MODIFIED:20230206T165027Z
UID:6471-1675929600-1675962000@myabbc.ca
SUMMARY:Indigenous Youth Program - Beading
DESCRIPTION:he next two weeks Thursday night Indigenous youth program will be beading! Sign up today on Eventbrite before spots fill up.
URL:https://myabbc.ca/event/indigenous-youth-program-beading/
LOCATION:Nshwaasnangong Child Care & Family Centre\, 449 Hill Street\, London\, Ontario\, N6B 1E5\, Canada
CATEGORIES:Calendar
ATTACH;FMTTYPE=image/png:https://myabbc.ca/wp-content/uploads/2022/01/Nshwaasnangong-Logo_Master-dark.png
ORGANIZER;CN="Nshwaasnangong Child Care & Family Centre":MAILTO:nshwaasnangong@soahac.on.ca
END:VEVENT
BEGIN:VEVENT
DTSTART;TZID=UTC:20230201T080000
DTEND;TZID=UTC:20230228T170000
DTSTAMP:20260420T071810
CREATED:20230206T170153Z
LAST-MODIFIED:20230206T170154Z
UID:6485-1675238400-1677603600@myabbc.ca
SUMMARY:February - Oneida Head Start Family Resource Centre
DESCRIPTION:
URL:https://myabbc.ca/event/february-oneida-head-start-family-resource-centre/
LOCATION:Ontario
CATEGORIES:Calendar
END:VEVENT
BEGIN:VEVENT
DTSTART;TZID=UTC:20230201T080000
DTEND;TZID=UTC:20230228T170000
DTSTAMP:20260420T071810
CREATED:20230206T165946Z
LAST-MODIFIED:20230206T165946Z
UID:6481-1675238400-1677603600@myabbc.ca
SUMMARY:Mikwa Giizis - Bear Moon - Enji Maajtaawaad Child & Family EarlyON
DESCRIPTION:
URL:https://myabbc.ca/event/mikwa-giizis-bear-moon-enji-maajtaawaad-child-family-earlyon/
LOCATION:Ontario
CATEGORIES:Calendar
END:VEVENT
END:VCALENDAR