BEGIN:VCALENDAR
VERSION:2.0
PRODID:-//My ABBC - ECPv6.13.2.1//NONSGML v1.0//EN
CALSCALE:GREGORIAN
METHOD:PUBLISH
X-ORIGINAL-URL:https://myabbc.ca
X-WR-CALDESC:Events for My ABBC
REFRESH-INTERVAL;VALUE=DURATION:PT1H
X-Robots-Tag:noindex
X-PUBLISHED-TTL:PT1H
BEGIN:VTIMEZONE
TZID:UTC
BEGIN:STANDARD
TZOFFSETFROM:+0000
TZOFFSETTO:+0000
TZNAME:UTC
DTSTART:20240101T000000
END:STANDARD
END:VTIMEZONE
BEGIN:VEVENT
DTSTART;TZID=UTC:20240228T080000
DTEND;TZID=UTC:20240327T170000
DTSTAMP:20260424T131133
CREATED:20240227T160117Z
LAST-MODIFIED:20240227T160118Z
UID:6560-1709107200-1711558800@myabbc.ca
SUMMARY:Parent/Guardian Anishinaabemowin Classes
DESCRIPTION:
URL:https://myabbc.ca/event/parent-guardian-anishinaabemowin-classes/
LOCATION:Enji-Maajtaawaad Early Years Program\, 330 Chippewa Road\, Muncey\, Ontario\, N0L 1Y0\, Canada
CATEGORIES:Calendar
END:VEVENT
BEGIN:VEVENT
DTSTART;TZID=UTC:20240319T080000
DTEND;TZID=UTC:20240319T170000
DTSTAMP:20260424T131133
CREATED:20240227T160449Z
LAST-MODIFIED:20240227T160450Z
UID:6563-1710835200-1710867600@myabbc.ca
SUMMARY:Basket Making
DESCRIPTION:
URL:https://myabbc.ca/event/basket-making/
LOCATION:Atlohsa Family Healing Services\, 343 Richmond Street\, London\, Ontario\, N6B 25S\, Canada
CATEGORIES:Calendar
END:VEVENT
BEGIN:VEVENT
DTSTART;TZID=UTC:20240503T110000
DTEND;TZID=UTC:20240503T150000
DTSTAMP:20260424T131133
CREATED:20240429T143753Z
LAST-MODIFIED:20240429T143754Z
UID:6581-1714734000-1714748400@myabbc.ca
SUMMARY:Craft Friday's
DESCRIPTION:Join us in the Elder’s Lounge nearly every Friday from 11am-3pm for a special gathering centered around community care.What we offer:– A template to kickstart your creativity– All materials needed to craft– Lunch and drinksAll are welcome to join! Craft alongside our passionate staff\, meet wonderful community members\, and express yourself. Bring your friends and family as well!Remember\, Craft Fridays isn’t just about crafting – it’s about community\, connection\, and a whole lot of fun! With a different craft lined up for each Friday\, there’s always something new to look forward to.Heads Up: Organizations wishing to bring groups of 5+ should email craftfridays@atlohsa.com to secure their spots.We’re excited to craft with you! 
URL:https://myabbc.ca/event/craft-fridays/
LOCATION:Atlohsa Family Healing Services\, 343 Richmond Street\, London\, Ontario\, N6B 25S\, Canada
CATEGORIES:Calendar
END:VEVENT
BEGIN:VEVENT
DTSTART;TZID=UTC:20240504T120000
DTEND;TZID=UTC:20240504T120000
DTSTAMP:20260424T131133
CREATED:20240429T143347Z
LAST-MODIFIED:20240429T143349Z
UID:6579-1714824000-1714824000@myabbc.ca
SUMMARY:REDress Day Maamigin: National Day of Awareness
DESCRIPTION:On May 5\, 2024\, we will come together from 12:30 p.m. to 4:30 p.m. to honor and bringing awareness to Missing and Murdered Indigenous Women\, Girls\, and Two-Spirit People (MMIWG2S+) at Victoria Park in London\, Ontario. REDress Day is a time for remembrance\, advocacy and bringing awareness to the systemic issues leading to violence towards Indigenous People across Turtle Island and beyond. \n\n\n\nActivities at the event will be centered around bringing the community together by providing a space for education\, advocacy\, and remembrance.  \n\n\n\nThis event is a BYOC (Bring Your Own Chair or Blanket) \n\n\n\nEvent Agenda:12:30pm-12:40: Opening Prayer12:40pm-1:10pm: Open-Mic for organizations and community members to speak and share stories1:15pm-1:45pm: Drum Group (to be announced) \n\n\n\nActivities through out the park:Free Food and Snacks (while supplies lasts)Community Art Piece ActivityCommunity Org. Information BoothsIndigenous VendorsREDress Project display hanging throughout the park; Each Red Dress tells a story—a story of resilience\, strength\, and the relentless pursuit of justice.  \n\n\n\nJoin us on National Day of Awareness on MMIWG2S+ as we honor the past\, stand in solidarity in the present\, and advocate for a safer and more just future for all. \n\n\n\nDate: May 5\, 2024Time: 12:30-4:30pmLocation: Victoria Park\, London\, Ontario  \n\n\n\nIf you are an Indigenous Organization or Indigenous Vendor and would like to set up a booth please email amorr246@uwo.ca and tsoucy@uwo.ca
URL:https://myabbc.ca/event/redress-day-maamigin-national-day-of-awareness/
LOCATION:Ontario
CATEGORIES:Calendar
END:VEVENT
BEGIN:VEVENT
DTSTART;TZID=UTC:20240510T080000
DTEND;TZID=UTC:20240510T170000
DTSTAMP:20260424T131133
CREATED:20220424T212029Z
LAST-MODIFIED:20220424T212029Z
UID:6271-1715328000-1715360400@myabbc.ca
SUMMARY:Bear Witness Day
DESCRIPTION:May 10 is Spirit Bear’s birthday and an important date in the history of Jordan’s Principle at the Canadian Human Rights Tribunal. The Tribunal’s first non-compliance order called for Canada to fully implement Jordan’s Principle by May 10\, 2016. Unfortunately\, it took several more years and many non-compliance orders (September 2016\, May 2017\, November 2017) against Canada before any real progress was made. \n\n\n\nJordan’s Principle (www.jordansprinciple.ca) is a child first principle and legal rule named in memory of Jordan River Anderson. It ensures First Nations children receive the services and supports they need when they need them. \n\n\n\nShow your support and “Bear Witness” to ensure Jordan’s Principle is fully implemented. Here are some things you can do at home\, or within your organization:  \n\n\n\nStep One: Education \n\n\n\nStart by reading Spirit Bear and Children Make History for free so you can learn more about Spirit Bear and Jordan’s Principle! Take part in watching the film\, Spirit Bear and Children Make History! It will be available to watch on the link here from May 1 – May 11\, 2022! Save the link and come back to watch the film on Vimeo on May 1\, 2022!Learn about the importance of Jordan’s Principle by reading Spirit Bear’s Guide to the Truth and Reconciliation Commission Calls to ActionWatch the documentary Jordan River Anderson\, The Messenger to learn more about Jordan River Anderson and Jordan’s Principle. Available to watch for free through the National Film Board!\n\n\n\nStep Two: Spread Awareness \n\n\n\nSpread the word and post photos on social media using the hashtags #JordansPrinciple and #BearWitnessDay and tag us on Twitter at @SpiritBearand @CaringSociety\, on Instagram through @SpiritBearandFriends\, and follow and like our page on Facebook!Host an online teddy bear tea party or bear birthday party to honour Jordan River Anderson and to learn about Jordan’s Principle.Reconciliation is all of us! Read this information sheet for ways you can help make a difference.Hang out with your bears or favourite stuffed animal at home! Ask loved ones in your home to participate too! You can let your neighbours know that you are participating in Bear Witness Day by placing your teddy bear or a drawing of a bear in the window.\n\n\n\nStep Three: Take Action \n\n\n\nReach out to provincial and territorial governments to make Spirit Bear Day a recognized holiday in every province and territory! So far\, the province of Manitoba is the only province that has began the process of enacting Spirit Bear Day as a recognized holiday on May 10! Please click here to learn more about the Act in Manitoba for how you can take part in making this day recognized in all provinces and territories! Create your own #SpiritBearPlan and write to your local and federal governments! First Nations children and families living on reserves and in the Territories receive public services funded by the federal government. Since confederation\, these services have fallen significantly short of what other Canadians receive. This injustice needs to end and Spirit Bear’s Plan will do just that! Here is his plan\, so that you and your community can fully implement it too!  \n\n\n\nAs we look at past year’s Bear Witness Day\, feel free to click on this link to hear Senator Brian Francis make a statement on Bear Witness Day 2019\, honouring Jordan River Anderson and expressing support for Jordan’s Principle.
URL:https://myabbc.ca/event/bear-witness-day/2024-05-10/
LOCATION:Ontario
CATEGORIES:Calendar
ATTACH;FMTTYPE=image/png:https://myabbc.ca/wp-content/uploads/2022/01/bwda_eng.png
END:VEVENT
BEGIN:VEVENT
DTSTART;TZID=UTC:20240529T160000
DTEND;TZID=UTC:20240529T180000
DTSTAMP:20260424T131133
CREATED:20240429T144310Z
LAST-MODIFIED:20240429T144312Z
UID:6585-1716998400-1717005600@myabbc.ca
SUMMARY:ABBC Early Years Health Fair
DESCRIPTION:
URL:https://myabbc.ca/event/abbc-early-years-health-fair/
LOCATION:Chippewa Community Centre\, 326 Chippewa Road\, Muncey\, Ontario\, N0L 1Y0\, Canada
CATEGORIES:Calendar
ORGANIZER;CN="Aboriginal Babies and Beyond Coalition":MAILTO:info@myabbc.local
END:VEVENT
BEGIN:VEVENT
DTSTART;TZID=UTC:20250510T080000
DTEND;TZID=UTC:20250510T170000
DTSTAMP:20260424T131133
CREATED:20220424T212029Z
LAST-MODIFIED:20220424T212029Z
UID:6594-1746864000-1746896400@myabbc.ca
SUMMARY:Bear Witness Day
DESCRIPTION:May 10 is Spirit Bear’s birthday and an important date in the history of Jordan’s Principle at the Canadian Human Rights Tribunal. The Tribunal’s first non-compliance order called for Canada to fully implement Jordan’s Principle by May 10\, 2016. Unfortunately\, it took several more years and many non-compliance orders (September 2016\, May 2017\, November 2017) against Canada before any real progress was made. \n\n\n\nJordan’s Principle (www.jordansprinciple.ca) is a child first principle and legal rule named in memory of Jordan River Anderson. It ensures First Nations children receive the services and supports they need when they need them. \n\n\n\nShow your support and “Bear Witness” to ensure Jordan’s Principle is fully implemented. Here are some things you can do at home\, or within your organization:  \n\n\n\nStep One: Education \n\n\n\nStart by reading Spirit Bear and Children Make History for free so you can learn more about Spirit Bear and Jordan’s Principle! Take part in watching the film\, Spirit Bear and Children Make History! It will be available to watch on the link here from May 1 – May 11\, 2022! Save the link and come back to watch the film on Vimeo on May 1\, 2022!Learn about the importance of Jordan’s Principle by reading Spirit Bear’s Guide to the Truth and Reconciliation Commission Calls to ActionWatch the documentary Jordan River Anderson\, The Messenger to learn more about Jordan River Anderson and Jordan’s Principle. Available to watch for free through the National Film Board!\n\n\n\nStep Two: Spread Awareness \n\n\n\nSpread the word and post photos on social media using the hashtags #JordansPrinciple and #BearWitnessDay and tag us on Twitter at @SpiritBearand @CaringSociety\, on Instagram through @SpiritBearandFriends\, and follow and like our page on Facebook!Host an online teddy bear tea party or bear birthday party to honour Jordan River Anderson and to learn about Jordan’s Principle.Reconciliation is all of us! Read this information sheet for ways you can help make a difference.Hang out with your bears or favourite stuffed animal at home! Ask loved ones in your home to participate too! You can let your neighbours know that you are participating in Bear Witness Day by placing your teddy bear or a drawing of a bear in the window.\n\n\n\nStep Three: Take Action \n\n\n\nReach out to provincial and territorial governments to make Spirit Bear Day a recognized holiday in every province and territory! So far\, the province of Manitoba is the only province that has began the process of enacting Spirit Bear Day as a recognized holiday on May 10! Please click here to learn more about the Act in Manitoba for how you can take part in making this day recognized in all provinces and territories! Create your own #SpiritBearPlan and write to your local and federal governments! First Nations children and families living on reserves and in the Territories receive public services funded by the federal government. Since confederation\, these services have fallen significantly short of what other Canadians receive. This injustice needs to end and Spirit Bear’s Plan will do just that! Here is his plan\, so that you and your community can fully implement it too!  \n\n\n\nAs we look at past year’s Bear Witness Day\, feel free to click on this link to hear Senator Brian Francis make a statement on Bear Witness Day 2019\, honouring Jordan River Anderson and expressing support for Jordan’s Principle.
URL:https://myabbc.ca/event/bear-witness-day/2025-05-10/
LOCATION:Ontario
CATEGORIES:Calendar
ATTACH;FMTTYPE=image/png:https://myabbc.ca/wp-content/uploads/2022/01/bwda_eng.png
END:VEVENT
BEGIN:VEVENT
DTSTART;TZID=UTC:20260510T080000
DTEND;TZID=UTC:20260510T170000
DTSTAMP:20260424T131133
CREATED:20220424T212029Z
LAST-MODIFIED:20220424T212029Z
UID:6595-1778400000-1778432400@myabbc.ca
SUMMARY:Bear Witness Day
DESCRIPTION:May 10 is Spirit Bear’s birthday and an important date in the history of Jordan’s Principle at the Canadian Human Rights Tribunal. The Tribunal’s first non-compliance order called for Canada to fully implement Jordan’s Principle by May 10\, 2016. Unfortunately\, it took several more years and many non-compliance orders (September 2016\, May 2017\, November 2017) against Canada before any real progress was made. \n\n\n\nJordan’s Principle (www.jordansprinciple.ca) is a child first principle and legal rule named in memory of Jordan River Anderson. It ensures First Nations children receive the services and supports they need when they need them. \n\n\n\nShow your support and “Bear Witness” to ensure Jordan’s Principle is fully implemented. Here are some things you can do at home\, or within your organization:  \n\n\n\nStep One: Education \n\n\n\nStart by reading Spirit Bear and Children Make History for free so you can learn more about Spirit Bear and Jordan’s Principle! Take part in watching the film\, Spirit Bear and Children Make History! It will be available to watch on the link here from May 1 – May 11\, 2022! Save the link and come back to watch the film on Vimeo on May 1\, 2022!Learn about the importance of Jordan’s Principle by reading Spirit Bear’s Guide to the Truth and Reconciliation Commission Calls to ActionWatch the documentary Jordan River Anderson\, The Messenger to learn more about Jordan River Anderson and Jordan’s Principle. Available to watch for free through the National Film Board!\n\n\n\nStep Two: Spread Awareness \n\n\n\nSpread the word and post photos on social media using the hashtags #JordansPrinciple and #BearWitnessDay and tag us on Twitter at @SpiritBearand @CaringSociety\, on Instagram through @SpiritBearandFriends\, and follow and like our page on Facebook!Host an online teddy bear tea party or bear birthday party to honour Jordan River Anderson and to learn about Jordan’s Principle.Reconciliation is all of us! Read this information sheet for ways you can help make a difference.Hang out with your bears or favourite stuffed animal at home! Ask loved ones in your home to participate too! You can let your neighbours know that you are participating in Bear Witness Day by placing your teddy bear or a drawing of a bear in the window.\n\n\n\nStep Three: Take Action \n\n\n\nReach out to provincial and territorial governments to make Spirit Bear Day a recognized holiday in every province and territory! So far\, the province of Manitoba is the only province that has began the process of enacting Spirit Bear Day as a recognized holiday on May 10! Please click here to learn more about the Act in Manitoba for how you can take part in making this day recognized in all provinces and territories! Create your own #SpiritBearPlan and write to your local and federal governments! First Nations children and families living on reserves and in the Territories receive public services funded by the federal government. Since confederation\, these services have fallen significantly short of what other Canadians receive. This injustice needs to end and Spirit Bear’s Plan will do just that! Here is his plan\, so that you and your community can fully implement it too!  \n\n\n\nAs we look at past year’s Bear Witness Day\, feel free to click on this link to hear Senator Brian Francis make a statement on Bear Witness Day 2019\, honouring Jordan River Anderson and expressing support for Jordan’s Principle.
URL:https://myabbc.ca/event/bear-witness-day/2026-05-10/
LOCATION:Ontario
CATEGORIES:Calendar
ATTACH;FMTTYPE=image/png:https://myabbc.ca/wp-content/uploads/2022/01/bwda_eng.png
END:VEVENT
BEGIN:VEVENT
DTSTART;TZID=UTC:20270510T080000
DTEND;TZID=UTC:20270510T170000
DTSTAMP:20260424T131133
CREATED:20220424T212029Z
LAST-MODIFIED:20220424T212029Z
UID:6596-1809936000-1809968400@myabbc.ca
SUMMARY:Bear Witness Day
DESCRIPTION:May 10 is Spirit Bear’s birthday and an important date in the history of Jordan’s Principle at the Canadian Human Rights Tribunal. The Tribunal’s first non-compliance order called for Canada to fully implement Jordan’s Principle by May 10\, 2016. Unfortunately\, it took several more years and many non-compliance orders (September 2016\, May 2017\, November 2017) against Canada before any real progress was made. \n\n\n\nJordan’s Principle (www.jordansprinciple.ca) is a child first principle and legal rule named in memory of Jordan River Anderson. It ensures First Nations children receive the services and supports they need when they need them. \n\n\n\nShow your support and “Bear Witness” to ensure Jordan’s Principle is fully implemented. Here are some things you can do at home\, or within your organization:  \n\n\n\nStep One: Education \n\n\n\nStart by reading Spirit Bear and Children Make History for free so you can learn more about Spirit Bear and Jordan’s Principle! Take part in watching the film\, Spirit Bear and Children Make History! It will be available to watch on the link here from May 1 – May 11\, 2022! Save the link and come back to watch the film on Vimeo on May 1\, 2022!Learn about the importance of Jordan’s Principle by reading Spirit Bear’s Guide to the Truth and Reconciliation Commission Calls to ActionWatch the documentary Jordan River Anderson\, The Messenger to learn more about Jordan River Anderson and Jordan’s Principle. Available to watch for free through the National Film Board!\n\n\n\nStep Two: Spread Awareness \n\n\n\nSpread the word and post photos on social media using the hashtags #JordansPrinciple and #BearWitnessDay and tag us on Twitter at @SpiritBearand @CaringSociety\, on Instagram through @SpiritBearandFriends\, and follow and like our page on Facebook!Host an online teddy bear tea party or bear birthday party to honour Jordan River Anderson and to learn about Jordan’s Principle.Reconciliation is all of us! Read this information sheet for ways you can help make a difference.Hang out with your bears or favourite stuffed animal at home! Ask loved ones in your home to participate too! You can let your neighbours know that you are participating in Bear Witness Day by placing your teddy bear or a drawing of a bear in the window.\n\n\n\nStep Three: Take Action \n\n\n\nReach out to provincial and territorial governments to make Spirit Bear Day a recognized holiday in every province and territory! So far\, the province of Manitoba is the only province that has began the process of enacting Spirit Bear Day as a recognized holiday on May 10! Please click here to learn more about the Act in Manitoba for how you can take part in making this day recognized in all provinces and territories! Create your own #SpiritBearPlan and write to your local and federal governments! First Nations children and families living on reserves and in the Territories receive public services funded by the federal government. Since confederation\, these services have fallen significantly short of what other Canadians receive. This injustice needs to end and Spirit Bear’s Plan will do just that! Here is his plan\, so that you and your community can fully implement it too!  \n\n\n\nAs we look at past year’s Bear Witness Day\, feel free to click on this link to hear Senator Brian Francis make a statement on Bear Witness Day 2019\, honouring Jordan River Anderson and expressing support for Jordan’s Principle.
URL:https://myabbc.ca/event/bear-witness-day/2027-05-10/
LOCATION:Ontario
CATEGORIES:Calendar
ATTACH;FMTTYPE=image/png:https://myabbc.ca/wp-content/uploads/2022/01/bwda_eng.png
END:VEVENT
END:VCALENDAR