BEGIN:VCALENDAR
VERSION:2.0
PRODID:-//My ABBC - ECPv6.13.2.1//NONSGML v1.0//EN
CALSCALE:GREGORIAN
METHOD:PUBLISH
X-WR-CALNAME:My ABBC
X-ORIGINAL-URL:https://myabbc.ca
X-WR-CALDESC:Events for My ABBC
REFRESH-INTERVAL;VALUE=DURATION:PT1H
X-Robots-Tag:noindex
X-PUBLISHED-TTL:PT1H
BEGIN:VTIMEZONE
TZID:UTC
BEGIN:STANDARD
TZOFFSETFROM:+0000
TZOFFSETTO:+0000
TZNAME:UTC
DTSTART:20220101T000000
END:STANDARD
END:VTIMEZONE
BEGIN:VEVENT
DTSTART;TZID=UTC:20221003T080000
DTEND;TZID=UTC:20221031T170000
DTSTAMP:20260420T025801
CREATED:20221022T200839Z
LAST-MODIFIED:20221022T200840Z
UID:6364-1664784000-1667235600@myabbc.ca
SUMMARY:Enji Maajtaawaad EarlyON October Calendar
DESCRIPTION:Enji Maajtaawaad EarlyON October Calendar
URL:https://myabbc.ca/event/enji-maajtaawaad-earlyon-october-calendar/
CATEGORIES:Calendar
END:VEVENT
BEGIN:VEVENT
DTSTART;TZID=UTC:20221003T080000
DTEND;TZID=UTC:20221031T170000
DTSTAMP:20260420T025802
CREATED:20221022T200558Z
LAST-MODIFIED:20221022T200600Z
UID:6360-1664784000-1667235600@myabbc.ca
SUMMARY:Éenda Noochiikiing EarlyON Calendar - October
DESCRIPTION:Éenda Noochiikiing EarlyON October Calendar
URL:https://myabbc.ca/event/eenda-noochiikiing-earlyon-calendar-october/
CATEGORIES:Calendar
END:VEVENT
BEGIN:VEVENT
DTSTART;TZID=UTC:20220622T080000
DTEND;TZID=UTC:20220622T170000
DTSTAMP:20260420T025802
CREATED:20220517T192145Z
LAST-MODIFIED:20220517T192146Z
UID:6293-1655884800-1655917200@myabbc.ca
SUMMARY:Logo Design Competition
DESCRIPTION:
URL:https://myabbc.ca/event/logo-design-competition/
CATEGORIES:Calendar
END:VEVENT
BEGIN:VEVENT
DTSTART;TZID=UTC:20220621T080000
DTEND;TZID=UTC:20220621T170000
DTSTAMP:20260420T025802
CREATED:20220620T130113Z
LAST-MODIFIED:20220620T130127Z
UID:6316-1655798400-1655830800@myabbc.ca
SUMMARY:Indigenous Solidarity Day - London
DESCRIPTION:
URL:https://myabbc.ca/event/indigenous-solidarity-day-london/
CATEGORIES:Calendar
END:VEVENT
BEGIN:VEVENT
DTSTART;TZID=UTC:20220621T080000
DTEND;TZID=UTC:20220621T210000
DTSTAMP:20260420T025802
CREATED:20220620T125601Z
LAST-MODIFIED:20220620T125818Z
UID:6310-1655798400-1655845200@myabbc.ca
SUMMARY:Solidarity Day - COTTFN
DESCRIPTION:Chippewa of the Thames will once again be hosting Solidarity Day Celebrations!  Everyone is welcome to come on out and enjoy cost is free!  Bring the family along with your lawn chairs and bug spray to spend the day with us.
URL:https://myabbc.ca/event/solidarity-day-cottfn/
CATEGORIES:Calendar
END:VEVENT
BEGIN:VEVENT
DTSTART;TZID=UTC:20220621T053000
DTEND;TZID=UTC:20220621T221500
DTSTAMP:20260420T025802
CREATED:20220620T125758Z
LAST-MODIFIED:20220620T125858Z
UID:6313-1655789400-1655849700@myabbc.ca
SUMMARY:Solidarity Day - Oneida Nation of the Thames
DESCRIPTION:
URL:https://myabbc.ca/event/solidarity-day-oneida-nation-of-the-thames/
CATEGORIES:Calendar
END:VEVENT
BEGIN:VEVENT
DTSTART;TZID=UTC:20220617T180000
DTEND;TZID=UTC:20220617T200000
DTSTAMP:20260420T025802
CREATED:20220517T191807Z
LAST-MODIFIED:20220517T191808Z
UID:6290-1655488800-1655496000@myabbc.ca
SUMMARY:Father's Day BBQ & Bike Ride
DESCRIPTION:Fathers Day BBQ & Bike Ride June 17 2022 6pm til 8pm Springbank Park – Picnic Site “F”Food and Draws sign up with Joel Kennedy at jkennedy@namerind.on.ca
URL:https://myabbc.ca/event/fathers-day-bbq-bike-ride/
CATEGORIES:Calendar
END:VEVENT
BEGIN:VEVENT
DTSTART;TZID=UTC:20220601T080000
DTEND;TZID=UTC:20220630T170000
DTSTAMP:20260420T025802
CREATED:20220527T173507Z
LAST-MODIFIED:20220527T173603Z
UID:6304-1654070400-1656608400@myabbc.ca
SUMMARY:Èenda Noochiikiing Child & Family EarlyON - Wteehiimiiwii Niipaahum
DESCRIPTION:Month of Wteehiimiiwii Niipaahum – June Month – programming \n\n\n\nÈenda Noochiikiing Child & Family EarlyON
URL:https://myabbc.ca/event/eenda-noochiikiing-child-family-earlyon-wteehiimiiwii-niipaahum/
LOCATION:Éenda Noochiikiing Child Care Centre\, 327 Jubliee Rd.\, Muncey\, Ontario\, N0L 1Y0\, Canada
CATEGORIES:Calendar
ATTACH;FMTTYPE=image/png:https://myabbc.ca/wp-content/uploads/2022/05/Eenda-Noochiikiing-CC.png
END:VEVENT
BEGIN:VEVENT
DTSTART;TZID=UTC:20220601T080000
DTEND;TZID=UTC:20220630T170000
DTSTAMP:20260420T025802
CREATED:20220527T163642Z
LAST-MODIFIED:20220527T173740Z
UID:6297-1654070400-1656608400@myabbc.ca
SUMMARY:Enji Maajtaawaad EarlyON - Odemin Giizis - June - Programming
DESCRIPTION:An EarlyON Child and Family Centre is where children\, parents and caregivers connect\, learn and grow – together! \n\n\n\nPlease Contact Cheri Fisher for signing up for programming at 289-0584 EXT 1 or cheri.fisher@cottfn.com
URL:https://myabbc.ca/event/enji-maajtaawaad-earlyon-odemin-giizis-june-programming/
LOCATION:Enji-Maajtaawaad Early Years Program\, 330 Chippewa Road\, Muncey\, Ontario\, N0L 1Y0\, Canada
CATEGORIES:Calendar
ATTACH;FMTTYPE=image/jpeg:https://myabbc.ca/wp-content/uploads/2022/02/Unknown-2.jpeg
END:VEVENT
BEGIN:VEVENT
DTSTART;TZID=UTC:20220530T080000
DTEND;TZID=UTC:20220603T170000
DTSTAMP:20260420T025802
CREATED:20220527T171038Z
LAST-MODIFIED:20220527T173803Z
UID:6300-1653897600-1654275600@myabbc.ca
SUMMARY:Nshwaasnangong Child Care & Family Centre -Programming
DESCRIPTION:PROGRAMMING: Good afternoon friends here is our program schedule for next week (starting May 30th). Please note that when signing up on Eventbrite you do need to sign up one ticket per person attending our in-person sessions both children and adults with exception of our drum event. This is so that we can properly record and account for who is coming to our programming. \n\n\n\nFor those interested in registering for the Asamaawaso (s/he feeds a child) food boxes for June 6th Frances Elizabeth is away and Jessica will be handling registrations e-mail jdolson@soahac.on.ca by Wednesday June 1st at noon to be added to the list for delivery. \n\n\n\nYou can register for any of our upcoming programs by going to https://www.eventbrite.ca/…/nshwaasnangong-child-care… \n\n\n\nOr by calling us at: 519-914-2972 if there are spots available after ticket sales end.
URL:https://myabbc.ca/event/nshwaasnangong-child-care-family-centre-programming-8/
LOCATION:Nshwaasnangong Child Care & Family Centre\, 449 Hill Street\, London\, Ontario\, N6B 1E5\, Canada
CATEGORIES:Calendar
ATTACH;FMTTYPE=image/png:https://myabbc.ca/wp-content/uploads/2022/01/Nshwaasnangong-Logo_Master-dark.png
ORGANIZER;CN="Nshwaasnangong Child Care & Family Centre":MAILTO:nshwaasnangong@soahac.on.ca
END:VEVENT
BEGIN:VEVENT
DTSTART;TZID=UTC:20220526T180000
DTEND;TZID=UTC:20220526T190000
DTSTAMP:20260420T025802
CREATED:20220517T190630Z
LAST-MODIFIED:20220517T190631Z
UID:6284-1653588000-1653591600@myabbc.ca
SUMMARY:Anger Awareness Workshop
DESCRIPTION:We are inviting everyone to join Auntie Hallie for a workshop on anger awareness with special guest storyteller\, Tisha Summers.  \n\n\n\nIn this session\, Tisha will be sharing valuable tools to help manage anger and to take care of your mental health. Bring your coloured pencils and paper and be inspired as she takes you on this healing journey.  \n\n\n\nTo register\, please visit  \n\n\n\nGuest Speaker bio:Tisha Summers is of the Wolf Clan from Oneida and Wasauksing First Nations. She is a Registered Art Therapist and Registered Psychotherapist and has been working with children\, youth and families for 18 years.
URL:https://myabbc.ca/event/anger-awareness-workshop/
LOCATION:Atlohsa Family Healing Services\, 343 Richmond Street\, London\, Ontario\, N6B 25S\, Canada
CATEGORIES:Calendar
END:VEVENT
BEGIN:VEVENT
DTSTART;TZID=UTC:20220516T140000
DTEND;TZID=UTC:20220520T140000
DTSTAMP:20260420T025802
CREATED:20220517T191525Z
LAST-MODIFIED:20220517T191526Z
UID:6287-1652709600-1653055200@myabbc.ca
SUMMARY:Dream Big Lecture Series - N'Amerind Friendship Centre (London)
DESCRIPTION:Join us over zoom for the Dream Big Lecture Series where you will hear four inspiring guest speakers discuss their process of discovering their passion and how they became who they are today! Monday\, May 16 @ 2:00 p.m. – Shelley Niro: Artist and Filmmaker Tuesday\, May 17 @ 2:00 p.m. – Kelly Greene: ArtistWednesday\, May 18 @ 2:00 p.m. – Eli Baxter: AuthorFriday\, May 20 @ 2:00 p.m. – Joel Kennedy: Ultra-Marathon Runner \n\n\n\nJoin Zoom Meeting https://us06web.zoom.us/j/83031006833… Meeting ID: 830 3100 6833 Passcode: dream
URL:https://myabbc.ca/event/dream-big-lecture-series-namerind-friendship-centre-london/
CATEGORIES:Calendar
END:VEVENT
BEGIN:VEVENT
DTSTART;TZID=UTC:20220516T080000
DTEND;TZID=UTC:20220520T170000
DTSTAMP:20260420T025802
CREATED:20220517T190322Z
LAST-MODIFIED:20220517T190322Z
UID:6282-1652688000-1653066000@myabbc.ca
SUMMARY:Nshwaasnangong Child Care & Family Centre - Programming
DESCRIPTION:PROGRAMMING: Good afternoon friends here is our program schedule for this week (starting May 16th).  \n\n\n\nPlease note that when signing up on Eventbrite you do need to sign up one ticket per person attending our in-person sessions both children and adults. This is so that we can properly record and account for who is coming to our programming. \n\n\n\nFor those interested in registering for the Asamaawaso (s/he feeds a child) food boxes for May 23rd please email Frances Elizabeth (fmoore@soahac.on.ca) by Wednesday May 18th at noon for the delivery.  \n\n\n\nWe’re really excited about partnering with a number of other community organizations again this week Ska-Nah-Doht Village and Museum and London Children’s Museum!  \n\n\n\nYou can register for any of our upcoming programs by going to https://www.eventbrite.ca/…/nshwaasnangong-child-care…Or by calling us at: 519-914-2972 if there are spots available after ticket sales end.
URL:https://myabbc.ca/event/nshwaasnangong-child-care-family-centre-programming-7/
LOCATION:Nshwaasnangong Child Care & Family Centre\, 449 Hill Street\, London\, Ontario\, N6B 1E5\, Canada
CATEGORIES:Calendar
ATTACH;FMTTYPE=image/png:https://myabbc.ca/wp-content/uploads/2022/01/Nshwaasnangong-Logo_Master-dark.png
ORGANIZER;CN="Nshwaasnangong Child Care & Family Centre":MAILTO:nshwaasnangong@soahac.on.ca
END:VEVENT
BEGIN:VEVENT
DTSTART;TZID=UTC:20220516T080000
DTEND;TZID=UTC:20220520T170000
DTSTAMP:20260420T025802
CREATED:20220517T185749Z
LAST-MODIFIED:20220517T185750Z
UID:6275-1652688000-1653066000@myabbc.ca
SUMMARY:Éenda Noochiikiing Child and Family EarlyON - Programming
DESCRIPTION:Virtual Weekly Programming with the focus of Lunaape Culture. We have many posts on our Éenda Noochiikiing Child and Family EarlyON Facebook Page. Please follow the link below to join our Facebook Page.  \n\n\n\nhttps://www.facebook.com/groups/726015272082486 \n\n\n\nAn EarlyON Child and Family Centre is where children\, parents and caregivers connect\, learn and grow – together \n\n\n\nFor more information please contact Amanda Hutton     Email: ahutton@cottfn.com
URL:https://myabbc.ca/event/eenda-noochiikiing-child-and-family-earlyon-programming/
LOCATION:Éenda Noochiikiing Child Care Centre\, 327 Jubliee Rd.\, Muncey\, Ontario\, N0L 1Y0\, Canada
CATEGORIES:Calendar
ATTACH;FMTTYPE=image/png:https://myabbc.ca/wp-content/uploads/2022/05/Eenda-Noochiikiing-CC.png
END:VEVENT
BEGIN:VEVENT
DTSTART;TZID=UTC:20220516T080000
DTEND;TZID=UTC:20220520T170000
DTSTAMP:20260420T025802
CREATED:20220517T184822Z
LAST-MODIFIED:20220517T184823Z
UID:6273-1652688000-1653066000@myabbc.ca
SUMMARY:Enji Maajtaawaad EarlyON - Programming
DESCRIPTION:Virtual Weekly Programming with the focus of Anishinaabemowin & Ojibwe Culture. We have many posts on our Enji Maajtaawaad EarlyON Facebook Page. Please follow the link below to join our Facebook Page.  \n\n\n\nhttps://www.facebook.com/groups/658032518083242 \n\n\n\nAn EarlyON Child and Family Centre is where children\, parents and caregivers connect\, learn and grow – together
URL:https://myabbc.ca/event/enji-maajtaawaad-earlyon-programming-2/
LOCATION:Enji-Maajtaawaad Early Years Program\, 330 Chippewa Road\, Muncey\, Ontario\, N0L 1Y0\, Canada
CATEGORIES:Calendar
ATTACH;FMTTYPE=image/jpeg:https://myabbc.ca/wp-content/uploads/2022/02/Unknown-2.jpeg
END:VEVENT
BEGIN:VEVENT
DTSTART;TZID=UTC:20220510T080000
DTEND;TZID=UTC:20220510T170000
DTSTAMP:20260420T025802
CREATED:20220424T212029Z
LAST-MODIFIED:20220424T212031Z
UID:6265-1652169600-1652202000@myabbc.ca
SUMMARY:Bear Witness Day
DESCRIPTION:May 10 is Spirit Bear’s birthday and an important date in the history of Jordan’s Principle at the Canadian Human Rights Tribunal. The Tribunal’s first non-compliance order called for Canada to fully implement Jordan’s Principle by May 10\, 2016. Unfortunately\, it took several more years and many non-compliance orders (September 2016\, May 2017\, November 2017) against Canada before any real progress was made. \n\n\n\nJordan’s Principle (www.jordansprinciple.ca) is a child first principle and legal rule named in memory of Jordan River Anderson. It ensures First Nations children receive the services and supports they need when they need them. \n\n\n\nShow your support and “Bear Witness” to ensure Jordan’s Principle is fully implemented. Here are some things you can do at home\, or within your organization:  \n\n\n\nStep One: Education \n\n\n\nStart by reading Spirit Bear and Children Make History for free so you can learn more about Spirit Bear and Jordan’s Principle! Take part in watching the film\, Spirit Bear and Children Make History! It will be available to watch on the link here from May 1 – May 11\, 2022! Save the link and come back to watch the film on Vimeo on May 1\, 2022!Learn about the importance of Jordan’s Principle by reading Spirit Bear’s Guide to the Truth and Reconciliation Commission Calls to ActionWatch the documentary Jordan River Anderson\, The Messenger to learn more about Jordan River Anderson and Jordan’s Principle. Available to watch for free through the National Film Board!\n\n\n\nStep Two: Spread Awareness \n\n\n\nSpread the word and post photos on social media using the hashtags #JordansPrinciple and #BearWitnessDay and tag us on Twitter at @SpiritBearand @CaringSociety\, on Instagram through @SpiritBearandFriends\, and follow and like our page on Facebook!Host an online teddy bear tea party or bear birthday party to honour Jordan River Anderson and to learn about Jordan’s Principle.Reconciliation is all of us! Read this information sheet for ways you can help make a difference.Hang out with your bears or favourite stuffed animal at home! Ask loved ones in your home to participate too! You can let your neighbours know that you are participating in Bear Witness Day by placing your teddy bear or a drawing of a bear in the window.\n\n\n\nStep Three: Take Action \n\n\n\nReach out to provincial and territorial governments to make Spirit Bear Day a recognized holiday in every province and territory! So far\, the province of Manitoba is the only province that has began the process of enacting Spirit Bear Day as a recognized holiday on May 10! Please click here to learn more about the Act in Manitoba for how you can take part in making this day recognized in all provinces and territories! Create your own #SpiritBearPlan and write to your local and federal governments! First Nations children and families living on reserves and in the Territories receive public services funded by the federal government. Since confederation\, these services have fallen significantly short of what other Canadians receive. This injustice needs to end and Spirit Bear’s Plan will do just that! Here is his plan\, so that you and your community can fully implement it too!  \n\n\n\nAs we look at past year’s Bear Witness Day\, feel free to click on this link to hear Senator Brian Francis make a statement on Bear Witness Day 2019\, honouring Jordan River Anderson and expressing support for Jordan’s Principle.
URL:https://myabbc.ca/event/bear-witness-day/2022-05-10/
CATEGORIES:Calendar
ATTACH;FMTTYPE=image/png:https://myabbc.ca/wp-content/uploads/2022/01/bwda_eng.png
END:VEVENT
BEGIN:VEVENT
DTSTART;TZID=UTC:20220505T100000
DTEND;TZID=UTC:20220505T150000
DTSTAMP:20260420T025802
CREATED:20220424T210948Z
LAST-MODIFIED:20220424T211044Z
UID:6259-1651744800-1651762800@myabbc.ca
SUMMARY:National Day of Awareness for Missing and Murdered Indigenous Women and Girls
DESCRIPTION:Thursday\, May 5th marks the National Day of Awareness for Missing and Murdered Indigenous Women and Girls.  \n\n\n\nJoin us at Peace Park in London ON for an in-person gathering featuring activities\, speakers\, sharing circles\, sacred fire and feast.  \n\n\n\nAll are welcome as we honour and uplift women\, girls\, men\, boys\, two-spirit\, families and community impacted by the tragic loss of family and friends.  \n\n\n\nJoin us from 10am – 3pm.
URL:https://myabbc.ca/event/national-day-of-awareness-for-missing-and-murdered-indigenous-women-and-girls/
LOCATION:Peace Park
CATEGORIES:Calendar
END:VEVENT
BEGIN:VEVENT
DTSTART;TZID=UTC:20220430T140000
DTEND;TZID=UTC:20220430T170000
DTSTAMP:20260420T025802
CREATED:20220426T170750Z
LAST-MODIFIED:20220426T170752Z
UID:6268-1651327200-1651338000@myabbc.ca
SUMMARY:Social Dance Open House
DESCRIPTION:Join us at Oneida Headstart Family Resource Centre for a fun filled\, outdoor family friendly social gathering.  \n\n\n\nTour our newly redesigned facility\, visit booths set up from various community programs\, programming by Oneida Nest and OHFRC. \n\n\n\nDoor Prizes and a social dance. \n\n\n\nThis event is a collaboration between Maternal Child Health\, Oneida Recreation & Oneida Headstart Family Resource.
URL:https://myabbc.ca/event/social-dance-open-house/
LOCATION:Oneida Head Start Family Resource Centre\, 2213 Elm Ave\, Southwold\, Ontario\, N0L 2G0\, Canada
CATEGORIES:Calendar
END:VEVENT
BEGIN:VEVENT
DTSTART;TZID=UTC:20220425T080000
DTEND;TZID=UTC:20220429T170000
DTSTAMP:20260420T025802
CREATED:20220424T205519Z
LAST-MODIFIED:20220424T205637Z
UID:6255-1650873600-1651251600@myabbc.ca
SUMMARY:Enji Maajtaawaad EarlyON - Programming
DESCRIPTION:Virtual Weekly Programming with the focus of Anishinaabemowin & Ojibwe Culture. We have many posts on our Enji Maajtaawaad EarlyON Facebook Page. Please follow the link below to join our Facebook Page.  \n\n\n\nhttps://www.facebook.com/groups/658032518083242 \n\n\n\n An EarlyON Child and Family Centre is where children\, parents and caregivers connect\, learn and grow – together
URL:https://myabbc.ca/event/enji-maajtaawaad-earlyon-programming/
CATEGORIES:Calendar
ATTACH;FMTTYPE=image/jpeg:https://myabbc.ca/wp-content/uploads/2022/02/Unknown-2.jpeg
END:VEVENT
BEGIN:VEVENT
DTSTART;TZID=UTC:20220425T080000
DTEND;TZID=UTC:20220429T170000
DTSTAMP:20260420T025802
CREATED:20220424T205139Z
LAST-MODIFIED:20220424T210008Z
UID:6253-1650873600-1651251600@myabbc.ca
SUMMARY:Nshwaasnangong Child Care & Family Centre - Programming
DESCRIPTION:PROGRAMMING: Good mornings friends here is our program schedule for next week (starting April 25th). Please note that when signing up on Eventbrite you do need to sign up one ticket per person attending our in-person sessions both children and adults. This is so that we can properly record and account for who is coming to our programming. \n\n\n\nFor those who registered for the Asamaawaso (s/he feeds a child) food boxes please note delivery has returned to Monday 11-6 this week. Should you wish to register for the following week email Frances Elizabeth (fmoore@soahac.on.ca) by Wednesday at noon for the delivery.  \n\n\n\nFor those that are finding their child growing out of clothing and are interested in picking out some items please see one of the family centre staff to access our Aashuwuneewak (to exchange) program or drop in Friday from 9 am – 3 pm.  \n\n\n\nYou can register for any of our upcoming programs by going to https://www.eventbrite.ca/…/nshwaasnangong-child-care… \n\n\n\nOr by calling us at: 519-914-2972 if there are spots available after ticket sales end.
URL:https://myabbc.ca/event/nshwaasnangong-child-care-family-centre-programming-6/
LOCATION:Nshwaasnangong Child Care & Family Centre\, 449 Hill Street\, London\, Ontario\, N6B 1E5\, Canada
CATEGORIES:Calendar
ATTACH;FMTTYPE=image/png:https://myabbc.ca/wp-content/uploads/2022/01/Nshwaasnangong-Logo_Master-dark.png
ORGANIZER;CN="Nshwaasnangong Child Care & Family Centre":MAILTO:nshwaasnangong@soahac.on.ca
END:VEVENT
BEGIN:VEVENT
DTSTART;TZID=UTC:20220411T090000
DTEND;TZID=UTC:20220429T150000
DTSTAMP:20260420T025802
CREATED:20220411T193436Z
LAST-MODIFIED:20220411T193556Z
UID:6226-1649667600-1651244400@myabbc.ca
SUMMARY:April - OHSFRC Activity Calendar
DESCRIPTION:We are open for outdoor visits \n\n\n\nMon-1:00-2:00 & 2:30-3:30  \n\n\n\nTues & Wed-9:00-10:00 / 10:30-11:30 / 1:00-2:00 /2:30-3:30 \n\n\n\nThurs- Family Walks -as indicated 11:00-1:00 (light lunch provided) \n\n\n\nFri- 9:00-10:00 / 10:30-11:30 \n\n\n\nPlayground is inspected and cleaned daily. Equipment is cleaned and disinfected between visitors. Light refreshments provided. Call to book a day and time : ) 519-652-3848 (program is geared to children ages prenatal to age 6 and their parents & caregivers) \n\n\n\nOneida Head Start Family Resource
URL:https://myabbc.ca/event/april-ohsfrc-activity-calendar/
CATEGORIES:Calendar
ATTACH;FMTTYPE=image/jpeg:https://myabbc.ca/wp-content/uploads/2022/02/228668632_373011094451107_7170079834598586914_n.jpg
END:VEVENT
BEGIN:VEVENT
DTSTART;TZID=UTC:20220411T080000
DTEND;TZID=UTC:20220415T170000
DTSTAMP:20260420T025802
CREATED:20220412T121906Z
LAST-MODIFIED:20220412T121907Z
UID:6248-1649664000-1650042000@myabbc.ca
SUMMARY:Nshwaasnangong Child Care & Family Centre
DESCRIPTION:PROGRAMMING: Good afternoon friends here is our program schedule for next week (starting April 11th).  \n\n\n\nAll in person\, online and pick up bundles can be registered via Eventbrite Link below. Please ensure you are reading the descriptions to avoid ticket cancellations.  \n\n\n\nPlease note the ribbon skirt and shirt making will be families who have already attended and finishing their projects. Should you wish to register for the April 19th (Tuesday delivery this week) food box please email Frances Elizabeth prior to Wednesday April 13TH at noon fmoore@soahac.on.ca \n\n\n\nhttps://www.eventbrite.ca/o/nshwaasnangong-child-care-amp-family-centre-31839355203?fbclid=IwAR1ySL3xTLyOSQ2ue5kWuuKa417rZCP45Sjkiv7MK0S3qJ0nDzGjAkWbQ-8
URL:https://myabbc.ca/event/nshwaasnangong-child-care-family-centre/
LOCATION:Nshwaasnangong Child Care & Family Centre\, 449 Hill Street\, London\, Ontario\, N6B 1E5\, Canada
ORGANIZER;CN="Nshwaasnangong Child Care & Family Centre":MAILTO:nshwaasnangong@soahac.on.ca
END:VEVENT
BEGIN:VEVENT
DTSTART;TZID=UTC:20220328T080000
DTEND;TZID=UTC:20220401T170000
DTSTAMP:20260420T025802
CREATED:20220326T190510Z
LAST-MODIFIED:20220326T190512Z
UID:6218-1648454400-1648832400@myabbc.ca
SUMMARY:Nshwaasnangong Child Care & Family Centre - Programming
DESCRIPTION:PROGRAMMING: afternoon friends here is our program schedule for next week (starting March 28th). All in person\, online and pick up bundles can be registered via Eventbrite Link below. Please ensure you are reading the descriptions to avoid ticket cancellations. Should you wish to register for the April 4th food box please email Frances Elizabeth prior to Wednesday March 30Th at noon fmoore@soahac.on.ca \n\n\n\nhttps://www.eventbrite.ca/o/nshwaasnangong-child-care-amp-family-centre-31839355203?fbclid=IwAR3tlYXiHqxepH9I5LqQhEBqw9rcoytFRzl4yNEPPc-0kQpSZQUW_cFM6i8
URL:https://myabbc.ca/event/nshwaasnangong-child-care-family-centre-programming-5/
LOCATION:Nshwaasnangong Child Care & Family Centre\, 449 Hill Street\, London\, Ontario\, N6B 1E5\, Canada
CATEGORIES:Calendar
ATTACH;FMTTYPE=image/png:https://myabbc.ca/wp-content/uploads/2022/01/Nshwaasnangong-Logo_Master-dark.png
END:VEVENT
BEGIN:VEVENT
DTSTART;TZID=UTC:20220328T080000
DTEND;TZID=UTC:20220331T170000
DTSTAMP:20260420T025802
CREATED:20220326T185846Z
LAST-MODIFIED:20220326T185848Z
UID:6212-1648454400-1648746000@myabbc.ca
SUMMARY:March Calendar - Oneida Head Start Family Resource
DESCRIPTION:Check out some fun family events happening in Oneida
URL:https://myabbc.ca/event/march-calendar-oneida-head-start-family-resource/
LOCATION:Oneida Head Start Family Resource Centre\, 2213 Elm Ave\, Southwold\, Ontario\, N0L 2G0\, Canada
CATEGORIES:Calendar
ATTACH;FMTTYPE=image/jpeg:https://myabbc.ca/wp-content/uploads/2022/02/228668632_373011094451107_7170079834598586914_n.jpg
END:VEVENT
BEGIN:VEVENT
DTSTART;TZID=UTC:20220322T160000
DTEND;TZID=UTC:20220322T170000
DTSTAMP:20260420T025802
CREATED:20220226T155704Z
LAST-MODIFIED:20220226T155707Z
UID:5958-1647964800-1647968400@myabbc.ca
SUMMARY:Spark the Fire - Youth Space
DESCRIPTION:If your interested in registering for an event give Meaghan MacLeod a call at 519-289-5641 ext. 234
URL:https://myabbc.ca/event/spark-the-fire-youth-space/2022-03-22/
CATEGORIES:Calendar
ATTACH;FMTTYPE=image/png:https://myabbc.ca/wp-content/uploads/2022/01/cottfn_logo_RGB-Logo.png
END:VEVENT
BEGIN:VEVENT
DTSTART;TZID=UTC:20220317T143000
DTEND;TZID=UTC:20220317T160000
DTSTAMP:20260420T025802
CREATED:20220226T145059Z
LAST-MODIFIED:20220226T145102Z
UID:5924-1647527400-1647532800@myabbc.ca
SUMMARY:Deshkan Ziibiing History Circle
DESCRIPTION:Join over Zoom for friendly conversations and activities for documenting and sharing Deshkan Ziibiing History.  Open to all Deshkan Ziibiing Anishinaabeg. \n\n\n\nZoom Meeting ID & password located on the flyer.
URL:https://myabbc.ca/event/deshkan-ziibiing-history-circle/
CATEGORIES:Calendar
ATTACH;FMTTYPE=image/jpeg:https://myabbc.ca/wp-content/uploads/2022/02/274110339_3313766905576309_4867863178685798617_n.jpg
END:VEVENT
BEGIN:VEVENT
DTSTART;TZID=UTC:20220314T080000
DTEND;TZID=UTC:20220314T170000
DTSTAMP:20260420T025802
CREATED:20220303T192622Z
LAST-MODIFIED:20220303T192624Z
UID:6200-1647244800-1647277200@myabbc.ca
SUMMARY:Paint Pour - Youth
DESCRIPTION:Are you looking for something fun to do on March Break? Are you or do you know a COTTFN Youth age 13-18? Give Ashely or Meaghan a call at the COTTFN health Centre (519) 289-5641 OR DM on Instagram @cottfn_youth to sign up!
URL:https://myabbc.ca/event/paint-pour-youth/
CATEGORIES:Calendar
END:VEVENT
BEGIN:VEVENT
DTSTART;TZID=UTC:20220309T091500
DTEND;TZID=UTC:20220309T150000
DTSTAMP:20260420T025802
CREATED:20220226T162300Z
LAST-MODIFIED:20220226T162302Z
UID:5967-1646817300-1646838000@myabbc.ca
SUMMARY:Indigenous Youth Rising Conference - oskaya êkiskwayihtamowin osihcikêwin
DESCRIPTION:The second annual oskaya êkiskwayihtamowin osihcikêwin Indigenous Youth Rising Conference will take place on Wednesday\, March 9\, 2022. \n\n\n\nDue to the COVID-19 pandemic\, programming will be offered in a virtual format\, and registration is free for all Indigenous youth across Canada to attend. \n\n\n\nThis one-day conference provides an opportunity for Indigenous youth to explore educational and career opportunities\, celebrate culture\, hear from young Indigenous artists\, content creators\, entrepreneurs\, and more! \n\n\n\nContact at kw@macewan.ca for questions or additional information! Please share with anyone who may be interested in attending\, this conference is open to Indigenous youth across the country. \n\n\n\nEvent Registration
URL:https://myabbc.ca/event/indigenous-youth-rising-conference-oskaya-ekiskwayihtamowin-osihcikewin/
CATEGORIES:Calendar
ATTACH;FMTTYPE=image/jpeg:https://myabbc.ca/wp-content/uploads/2022/02/273161689_4834503046627246_7200574477664292340_n.jpg
END:VEVENT
BEGIN:VEVENT
DTSTART;TZID=UTC:20220308T180000
DTEND;TZID=UTC:20220308T190000
DTSTAMP:20260420T025802
CREATED:20220226T155306Z
LAST-MODIFIED:20220226T155308Z
UID:5956-1646762400-1646766000@myabbc.ca
SUMMARY:Healing with Horses -Chippewa Youth
DESCRIPTION:If you are interested in registering for an event give Meaghan MacLeod a call at 519-289-5641 ext. 234 \n\n\n\nThis event will take place online.
URL:https://myabbc.ca/event/healing-with-horses-chippewa-youth/
CATEGORIES:Calendar
ATTACH;FMTTYPE=image/png:https://myabbc.ca/wp-content/uploads/2022/01/cottfn_logo_RGB-Logo.png
END:VEVENT
BEGIN:VEVENT
DTSTART;TZID=UTC:20220308T100000
DTEND;TZID=UTC:20220308T100000
DTSTAMP:20260420T025802
CREATED:20220226T160925Z
LAST-MODIFIED:20220226T160927Z
UID:5964-1646733600-1646733600@myabbc.ca
SUMMARY:MMIW Community Event
DESCRIPTION:In recognition of International Womens Day\, Oneida Recreation will be hosting a MMIW honour ride around the community for those we have lost.  \n\n\n\nIn partnership with the Onyota’a:ka Family Healing Lodge this event is open to all community members to attend\, registration is required for supplies to decorate your vehicle and to be entered into the door prize draws.  \n\n\n\nPlease register with Dakota at 519-652-0855 or by email at youthworker@oneida.on.ca Please see flyer for full details
URL:https://myabbc.ca/event/mmiw-community-event/
CATEGORIES:Calendar
ATTACH;FMTTYPE=image/jpeg:https://myabbc.ca/wp-content/uploads/2022/02/274710990_149545770794673_9128171123691577800_n.jpg
END:VEVENT
END:VCALENDAR