BEGIN:VCALENDAR
VERSION:2.0
PRODID:-//My ABBC - ECPv6.13.2.1//NONSGML v1.0//EN
CALSCALE:GREGORIAN
METHOD:PUBLISH
X-WR-CALNAME:My ABBC
X-ORIGINAL-URL:https://myabbc.ca
X-WR-CALDESC:Events for My ABBC
REFRESH-INTERVAL;VALUE=DURATION:PT1H
X-Robots-Tag:noindex
X-PUBLISHED-TTL:PT1H
BEGIN:VTIMEZONE
TZID:UTC
BEGIN:STANDARD
TZOFFSETFROM:+0000
TZOFFSETTO:+0000
TZNAME:UTC
DTSTART:20220101T000000
END:STANDARD
END:VTIMEZONE
BEGIN:VEVENT
DTSTART;TZID=UTC:20220207T080000
DTEND;TZID=UTC:20220211T170000
DTSTAMP:20260420T045109
CREATED:20220207T202223Z
LAST-MODIFIED:20220207T204531Z
UID:5715-1644220800-1644598800@myabbc.ca
SUMMARY:Enji Maataajwaad EarlyON
DESCRIPTION:Virtual Weekly Programming with the focus of Anishinaabemowin & Ojibwe Culture. Many posts on the Facebook Page. Please join our Facebook Page  \n\n\n\n!https://www.facebook.com/groups/658032518083242 \n\n\n\n An EarlyON Child and Family Centre is where children\, parents and caregivers connect\, learn and grow – together
URL:https://myabbc.ca/event/enji-maataajwaad-earlyon/
CATEGORIES:Calendar
ATTACH;FMTTYPE=image/jpeg:https://myabbc.ca/wp-content/uploads/2022/02/273511077_10165895762445527_4627415230221275940_n.jpg
END:VEVENT
BEGIN:VEVENT
DTSTART;TZID=UTC:20220202T190000
DTEND;TZID=UTC:20220202T190000
DTSTAMP:20260420T045109
CREATED:20220131T160946Z
LAST-MODIFIED:20220131T160948Z
UID:5677-1643828400-1643828400@myabbc.ca
SUMMARY:Understanding Relationships
DESCRIPTION:Join the Women’s Group in an upcoming ZOOM session “Understanding Relationships” with guest speaker\, Myrna Kicknosway. To register\, please visit  This event is open to anyone who wants to learn more about Indigenous culture.Guest speaker bio:Myrna Kicknosway is from Walpole Island\, Bkejwanong Territory. Her background and skills led her to work professionally and voluntarily in the fields of education\, counselling\, economic/employment planning\, federal corrections\, environment activism and community development. Her life journey and personal healing has provided her with knowledge of Indigenous cultures and traditions.
URL:https://myabbc.ca/event/understanding-relationships/
CATEGORIES:Calendar
ATTACH;FMTTYPE=image/jpeg:https://myabbc.ca/wp-content/uploads/2022/01/273009748_4781923135176546_4342533464813528045_n.jpg
END:VEVENT
BEGIN:VEVENT
DTSTART;TZID=UTC:20220131T130000
DTEND;TZID=UTC:20220204T220000
DTSTAMP:20260420T045109
CREATED:20220131T155704Z
LAST-MODIFIED:20220131T161128Z
UID:5670-1643634000-1644012000@myabbc.ca
SUMMARY:Enji Maajtaawaad EarlyON Family Centre - Programming
DESCRIPTION:Virtual Weekly Programming with the focus of Anishinaabemowin & Ojibwe Culture. Many posts on the Facebook Page. Please join our Facebook Page  \n\n\n\n!https://www.facebook.com/groups/658032518083242 \n\n\n\n An EarlyON Child and Family Centre is where children\, parents and caregivers connect\, learn and grow – together
URL:https://myabbc.ca/event/enji-maajtaawaad-earlyon-family-centre-programming-2/
CATEGORIES:Calendar
ATTACH;FMTTYPE=image/jpeg:https://myabbc.ca/wp-content/uploads/2022/01/Weekly-Program.jpg
END:VEVENT
BEGIN:VEVENT
DTSTART;TZID=UTC:20220131T110000
DTEND;TZID=UTC:20220131T120000
DTSTAMP:20260420T045109
CREATED:20220124T163756Z
LAST-MODIFIED:20220124T163757Z
UID:5500-1643626800-1643630400@myabbc.ca
SUMMARY:Make your own Red Dress Pin
DESCRIPTION:Virtual beading class for community members with bead craftswoman\, Stevi Riley. In this session\, she will be teaching participants how to bead the red dress pin. The red dress pin is a wonderful addition to any wardrobe or work lanyard to actively honour\, remember\, and talk about issues concerning Murdered and Missing Indigenous Women and Girls.All beading materials will be provided in advance (London area only). To register\, please visit www.mmiwg-workshop.eventbrite.ca (limited spots available) \n\n\n\nGuest speaker bio:Stevi Riley is an Ojibwe bead craftswoman and has shared her gifts in Indigenous community wellness. Stevi has a passion for seeing education be more easily accessible to Indigenous young people.
URL:https://myabbc.ca/event/make-your-own-red-dress-pin/
CATEGORIES:Calendar
ATTACH;FMTTYPE=image/jpeg:https://myabbc.ca/wp-content/uploads/2022/01/272047777_4738377369531123_3869159943261412550_n.jpg
END:VEVENT
BEGIN:VEVENT
DTSTART;TZID=UTC:20220131T080000
DTEND;TZID=UTC:20220204T170000
DTSTAMP:20260420T045109
CREATED:20220131T160454Z
LAST-MODIFIED:20220131T160455Z
UID:5675-1643616000-1643994000@myabbc.ca
SUMMARY:Nshwaasnangong Child Care & Family Centre - Programming
DESCRIPTION:PROGRAMMING: We are happy to announce that Nshwaasnangong Family Centre Programming is able to return to some in person programming. We will continue with Zoom sessions\, pick up programming\, small indoor and outdoor groups and we are offering single family playroom bookings through new 1:1 family playtime sessions. We will also have our regular social media coming your way. All in person\, online and pick up entertainment bundles can be registered via Eventbrite Link below. Please see our previous post regarding the food security program and if you have any questions please connect with Frances Elizabeth at fmoore@soahac.on.ca
URL:https://myabbc.ca/event/nshwaasnangong-child-care-family-centre-programming/
CATEGORIES:Calendar
ATTACH;FMTTYPE=image/png:https://myabbc.ca/wp-content/uploads/2022/01/Nshwaasnangong-Logo_Master-dark.png
ORGANIZER;CN="Nshwaasnangong Child Care & Family Centre":MAILTO:nshwaasnangong@soahac.on.ca
END:VEVENT
BEGIN:VEVENT
DTSTART;TZID=UTC:20220127T143000
DTEND;TZID=UTC:20220127T150000
DTSTAMP:20260420T045109
CREATED:20220124T162442Z
LAST-MODIFIED:20220125T180140Z
UID:5493-1643293800-1643295600@myabbc.ca
SUMMARY:Join local author & Illustrator Bridget George It's a Mitig!
DESCRIPTION:Join local author & illustrator Bridget George for a reading and talk about her debut children’s book (It’s a Mitig!) on January 27 from 9:30–10am. It’s a Mitig! is a delightful picture book that guides young readers through nature using rhymes in Ojibwe and English. You won’t want to miss this special program celebrating Family Literacy Day!Sign up here: https://buff.ly/32VeQCu \n\n\n\n\n\n\n\n\n\n\nhttps://buff.ly/32VeQCu
URL:https://myabbc.ca/event/join-local-author-illustrator-bridget-george-its-a-mitig/
CATEGORIES:Calendar
ATTACH;FMTTYPE=image/jpeg:https://myabbc.ca/wp-content/uploads/2022/01/271633461_10158098935015216_3171024226208515884_n.jpg
ORGANIZER;CN="London Public Library":MAILTO:info@lpl.ca
END:VEVENT
BEGIN:VEVENT
DTSTART;TZID=UTC:20220125T080000
DTEND;TZID=UTC:20220128T170000
DTSTAMP:20260420T045109
CREATED:20220124T170151Z
LAST-MODIFIED:20220124T170152Z
UID:5506-1643097600-1643389200@myabbc.ca
SUMMARY:Nshwaasnangong Child Care & Family Centre - Events
DESCRIPTION:Nshwaasnangong Child Care & Family Centre – Events for the week of Jan 24th\, 2022 \n\n\n\nPROGRAMMING: All Nshwaasnangong Family Centre Programming will continue remotely this coming week. We have a good mix of Zoom sessions\, take home bundles\, and other content coming your way. We’re also offering one on one check ins for families for families who wish to do so. All zoom and pick up entertainment bundles can be registered via Eventbrite Link below. A huge thank you to the Thames Valley Quilting Guild for the donation of the beautiful quilts in the afternoon at the movies bundles. Please ensure you register 1 ticket per person for that event. Ashamawaaso connect with Frances Elizabeth (fmoore@soahac.on.ca) and one on ones connect with Joscelyne (jninham@soahac.on.ca) https://www.eventbrite.ca/…/nshwaasnangong-child-care…
URL:https://myabbc.ca/event/nshwaasnangong-child-care-family-centre-events/
CATEGORIES:Calendar
ATTACH;FMTTYPE=image/png:https://myabbc.ca/wp-content/uploads/2022/01/Nshwaasnangong-Logo_Master-dark.png
ORGANIZER;CN="Nshwaasnangong Child Care & Family Centre":MAILTO:nshwaasnangong@soahac.on.ca
END:VEVENT
BEGIN:VEVENT
DTSTART;TZID=UTC:20220124T080000
DTEND;TZID=UTC:20220128T170000
DTSTAMP:20260420T045109
CREATED:20220124T171507Z
LAST-MODIFIED:20220124T171508Z
UID:5512-1643011200-1643389200@myabbc.ca
SUMMARY:Enji-Maajtaawaad EarlyON Family Centre - Programming
DESCRIPTION:Virtual Weekly Programming with the focus of Anishinaabemowin & Ojibwe Culture.  Many posts on the Facebook Page.  Please join our Facebook Page https://www.facebook.com/groups/658032518083242 \n\n\n\n\n\n\n\nAn EarlyON Child and Family Centre is where children\, parents and caregivers connect\, learn and grow – together!
URL:https://myabbc.ca/event/enji-maajtaawaad-earlyon-family-centre-programming/
CATEGORIES:Calendar
ATTACH;FMTTYPE=image/jpeg:https://myabbc.ca/wp-content/uploads/2022/01/272370193_10165853493320527_5179028586378958992_n.png.jpg
END:VEVENT
END:VCALENDAR