BEGIN:VCALENDAR
VERSION:2.0
PRODID:-//My ABBC - ECPv6.13.2.1//NONSGML v1.0//EN
CALSCALE:GREGORIAN
METHOD:PUBLISH
X-ORIGINAL-URL:https://myabbc.ca
X-WR-CALDESC:Events for My ABBC
REFRESH-INTERVAL;VALUE=DURATION:PT1H
X-Robots-Tag:noindex
X-PUBLISHED-TTL:PT1H
BEGIN:VTIMEZONE
TZID:UTC
BEGIN:STANDARD
TZOFFSETFROM:+0000
TZOFFSETTO:+0000
TZNAME:UTC
DTSTART:20220101T000000
END:STANDARD
END:VTIMEZONE
BEGIN:VEVENT
DTSTART;TZID=UTC:20240311T080000
DTEND;TZID=UTC:20240315T170000
DTSTAMP:20260420T011030
CREATED:20240227T160700Z
LAST-MODIFIED:20240227T160701Z
UID:6566-1710144000-1710522000@myabbc.ca
SUMMARY:March Break Activities - Oneida
DESCRIPTION:
URL:https://myabbc.ca/event/march-break-activities-oneida/
CATEGORIES:Calendar
END:VEVENT
BEGIN:VEVENT
DTSTART;TZID=UTC:20220621T053000
DTEND;TZID=UTC:20220621T221500
DTSTAMP:20260420T011030
CREATED:20220620T125758Z
LAST-MODIFIED:20220620T125858Z
UID:6313-1655789400-1655849700@myabbc.ca
SUMMARY:Solidarity Day - Oneida Nation of the Thames
DESCRIPTION:
URL:https://myabbc.ca/event/solidarity-day-oneida-nation-of-the-thames/
CATEGORIES:Calendar
END:VEVENT
BEGIN:VEVENT
DTSTART;TZID=UTC:20220308T100000
DTEND;TZID=UTC:20220308T100000
DTSTAMP:20260420T011030
CREATED:20220226T160925Z
LAST-MODIFIED:20220226T160927Z
UID:5964-1646733600-1646733600@myabbc.ca
SUMMARY:MMIW Community Event
DESCRIPTION:In recognition of International Womens Day\, Oneida Recreation will be hosting a MMIW honour ride around the community for those we have lost.  \n\n\n\nIn partnership with the Onyota’a:ka Family Healing Lodge this event is open to all community members to attend\, registration is required for supplies to decorate your vehicle and to be entered into the door prize draws.  \n\n\n\nPlease register with Dakota at 519-652-0855 or by email at youthworker@oneida.on.ca Please see flyer for full details
URL:https://myabbc.ca/event/mmiw-community-event/
CATEGORIES:Calendar
ATTACH;FMTTYPE=image/jpeg:https://myabbc.ca/wp-content/uploads/2022/02/274710990_149545770794673_9128171123691577800_n.jpg
END:VEVENT
BEGIN:VEVENT
DTSTART;TZID=UTC:20220301T080000
DTEND;TZID=UTC:20220331T170000
DTSTAMP:20260420T011030
CREATED:20220226T160420Z
LAST-MODIFIED:20220226T160422Z
UID:5961-1646121600-1648746000@myabbc.ca
SUMMARY:Family Wellness Challenge - Month of March
DESCRIPTION:Complete challenges for the month of March.  Must register to participate.  All who register will receive a gift and all who submit their calendars will receive a gift.   \n\n\n\nOpen to all ages \n\n\n\nTo register: Please call 519-652-0500
URL:https://myabbc.ca/event/family-wellness-challenge-month-of-march/
CATEGORIES:Calendar
ATTACH;FMTTYPE=image/jpeg:https://myabbc.ca/wp-content/uploads/2022/02/274740702_4998068936882629_5702484169351563054_n.jpg
END:VEVENT
END:VCALENDAR