BEGIN:VCALENDAR
VERSION:2.0
PRODID:-//My ABBC - ECPv6.13.2.1//NONSGML v1.0//EN
CALSCALE:GREGORIAN
METHOD:PUBLISH
X-ORIGINAL-URL:https://myabbc.ca
X-WR-CALDESC:Events for My ABBC
REFRESH-INTERVAL;VALUE=DURATION:PT1H
X-Robots-Tag:noindex
X-PUBLISHED-TTL:PT1H
BEGIN:VTIMEZONE
TZID:UTC
BEGIN:STANDARD
TZOFFSETFROM:+0000
TZOFFSETTO:+0000
TZNAME:UTC
DTSTART:20220101T000000
END:STANDARD
END:VTIMEZONE
BEGIN:VEVENT
DTSTART;TZID=UTC:20220228T083000
DTEND;TZID=UTC:20220311T163000
DTSTAMP:20260419T233300
CREATED:20220226T144417Z
LAST-MODIFIED:20220226T144419Z
UID:5919-1646037000-1647016200@myabbc.ca
SUMMARY:Ziisbaakdokeng
DESCRIPTION:Annual Chippewa Maple Syrup Making Camp is coming up very soon! Check us out near the Administration Complex where we will be setup & boiling maple water all week for some tasty locally made syrup 
URL:https://myabbc.ca/event/ziisbaakdokeng/
LOCATION:Chippewa Administration Complex\, 320 Chippewa Road\, Muncey\, Ontario\, N0L 1Y0\, Canada
CATEGORIES:Calendar
ATTACH;FMTTYPE=image/jpeg:https://myabbc.ca/wp-content/uploads/2022/02/274720642_3320784341541232_5167826007794733828_n.jpg
END:VEVENT
END:VCALENDAR