BEGIN:VCALENDAR
VERSION:2.0
PRODID:-//My ABBC - ECPv6.13.2.1//NONSGML v1.0//EN
CALSCALE:GREGORIAN
METHOD:PUBLISH
X-WR-CALNAME:My ABBC
X-ORIGINAL-URL:https://myabbc.ca
X-WR-CALDESC:Events for My ABBC
REFRESH-INTERVAL;VALUE=DURATION:PT1H
X-Robots-Tag:noindex
X-PUBLISHED-TTL:PT1H
BEGIN:VTIMEZONE
TZID:UTC
BEGIN:STANDARD
TZOFFSETFROM:+0000
TZOFFSETTO:+0000
TZNAME:UTC
DTSTART:20220101T000000
END:STANDARD
END:VTIMEZONE
BEGIN:VEVENT
DTSTART;TZID=UTC:20240228T080000
DTEND;TZID=UTC:20240327T170000
DTSTAMP:20260419T181428
CREATED:20240227T160117Z
LAST-MODIFIED:20240227T160118Z
UID:6560-1709107200-1711558800@myabbc.ca
SUMMARY:Parent/Guardian Anishinaabemowin Classes
DESCRIPTION:
URL:https://myabbc.ca/event/parent-guardian-anishinaabemowin-classes/
LOCATION:Enji-Maajtaawaad Early Years Program\, 330 Chippewa Road\, Muncey\, Ontario\, N0L 1Y0\, Canada
CATEGORIES:Calendar
END:VEVENT
BEGIN:VEVENT
DTSTART;TZID=UTC:20240201T080000
DTEND;TZID=UTC:20240229T170000
DTSTAMP:20260419T181428
CREATED:20240207T131146Z
LAST-MODIFIED:20240207T131148Z
UID:6549-1706774400-1709226000@myabbc.ca
SUMMARY:Makwa Giizis 2024 - Enji Maajtaawaad EarlyON
DESCRIPTION:
URL:https://myabbc.ca/event/makwa-giizis-2024-enji-maajtaawaad-earlyon/
LOCATION:Enji-Maajtaawaad Early Years Program\, 330 Chippewa Road\, Muncey\, Ontario\, N0L 1Y0\, Canada
CATEGORIES:Calendar
ATTACH;FMTTYPE=image/jpeg:https://myabbc.ca/wp-content/uploads/2022/02/Unknown-2.jpeg
END:VEVENT
BEGIN:VEVENT
DTSTART;TZID=UTC:20230601T080000
DTEND;TZID=UTC:20230630T170000
DTSTAMP:20260419T181428
CREATED:20230612T181211Z
LAST-MODIFIED:20230612T181212Z
UID:6540-1685606400-1688144400@myabbc.ca
SUMMARY:Enji Maajtaawaad Child and Family EarlyON - Odemin Giizis
DESCRIPTION:
URL:https://myabbc.ca/event/enji-maajtaawaad-child-and-family-earlyon-odemin-giizis/
LOCATION:Enji-Maajtaawaad Early Years Program\, 330 Chippewa Road\, Muncey\, Ontario\, N0L 1Y0\, Canada
CATEGORIES:Calendar
END:VEVENT
BEGIN:VEVENT
DTSTART;TZID=UTC:20230501T080000
DTEND;TZID=UTC:20230531T170000
DTSTAMP:20260419T181428
CREATED:20230518T115801Z
LAST-MODIFIED:20230518T115803Z
UID:6510-1682928000-1685552400@myabbc.ca
SUMMARY:Éenda Noochiikiing EarlyON Calendar
DESCRIPTION:
URL:https://myabbc.ca/event/eenda-noochiikiing-earlyon-calendar/
LOCATION:Enji-Maajtaawaad Early Years Program\, 330 Chippewa Road\, Muncey\, Ontario\, N0L 1Y0\, Canada
CATEGORIES:Calendar
END:VEVENT
BEGIN:VEVENT
DTSTART;TZID=UTC:20230501T080000
DTEND;TZID=UTC:20230531T170000
DTSTAMP:20260419T181428
CREATED:20230518T115515Z
LAST-MODIFIED:20230518T115516Z
UID:6507-1682928000-1685552400@myabbc.ca
SUMMARY:Enji Maajtaawaad EarlyON Calendar
DESCRIPTION:
URL:https://myabbc.ca/event/enji-maajtaawaad-earlyon-calendar/
LOCATION:Enji-Maajtaawaad Early Years Program\, 330 Chippewa Road\, Muncey\, Ontario\, N0L 1Y0\, Canada
CATEGORIES:Calendar
ATTACH;FMTTYPE=image/jpeg:https://myabbc.ca/wp-content/uploads/2022/02/Unknown-2.jpeg
END:VEVENT
BEGIN:VEVENT
DTSTART;TZID=UTC:20230301T080000
DTEND;TZID=UTC:20230331T170000
DTSTAMP:20260419T181428
CREATED:20230310T194058Z
LAST-MODIFIED:20230310T194216Z
UID:6502-1677657600-1680282000@myabbc.ca
SUMMARY:Ziibaakdoke Giizis - Enji Maajtaawaad Child and Family EarlyON
DESCRIPTION:
URL:https://myabbc.ca/event/ziibaakdoke-giizis-enji-maajtaawaad-child-and-family-earlyon/
LOCATION:Enji-Maajtaawaad Early Years Program\, 330 Chippewa Road\, Muncey\, Ontario\, N0L 1Y0\, Canada
CATEGORIES:Calendar
END:VEVENT
BEGIN:VEVENT
DTSTART;TZID=UTC:20221201T080000
DTEND;TZID=UTC:20221231T170000
DTSTAMP:20260419T181428
CREATED:20221221T160216Z
LAST-MODIFIED:20221221T160217Z
UID:6448-1669881600-1672506000@myabbc.ca
SUMMARY:Enji Maajtaawaad EarlyON
DESCRIPTION:
URL:https://myabbc.ca/event/enji-maajtaawaad-earlyon-3/
LOCATION:Enji-Maajtaawaad Early Years Program\, 330 Chippewa Road\, Muncey\, Ontario\, N0L 1Y0\, Canada
CATEGORIES:Calendar
END:VEVENT
BEGIN:VEVENT
DTSTART;TZID=UTC:20220601T080000
DTEND;TZID=UTC:20220630T170000
DTSTAMP:20260419T181428
CREATED:20220527T163642Z
LAST-MODIFIED:20220527T173740Z
UID:6297-1654070400-1656608400@myabbc.ca
SUMMARY:Enji Maajtaawaad EarlyON - Odemin Giizis - June - Programming
DESCRIPTION:An EarlyON Child and Family Centre is where children\, parents and caregivers connect\, learn and grow – together! \n\n\n\nPlease Contact Cheri Fisher for signing up for programming at 289-0584 EXT 1 or cheri.fisher@cottfn.com
URL:https://myabbc.ca/event/enji-maajtaawaad-earlyon-odemin-giizis-june-programming/
LOCATION:Enji-Maajtaawaad Early Years Program\, 330 Chippewa Road\, Muncey\, Ontario\, N0L 1Y0\, Canada
CATEGORIES:Calendar
ATTACH;FMTTYPE=image/jpeg:https://myabbc.ca/wp-content/uploads/2022/02/Unknown-2.jpeg
END:VEVENT
BEGIN:VEVENT
DTSTART;TZID=UTC:20220516T080000
DTEND;TZID=UTC:20220520T170000
DTSTAMP:20260419T181428
CREATED:20220517T184822Z
LAST-MODIFIED:20220517T184823Z
UID:6273-1652688000-1653066000@myabbc.ca
SUMMARY:Enji Maajtaawaad EarlyON - Programming
DESCRIPTION:Virtual Weekly Programming with the focus of Anishinaabemowin & Ojibwe Culture. We have many posts on our Enji Maajtaawaad EarlyON Facebook Page. Please follow the link below to join our Facebook Page.  \n\n\n\nhttps://www.facebook.com/groups/658032518083242 \n\n\n\nAn EarlyON Child and Family Centre is where children\, parents and caregivers connect\, learn and grow – together
URL:https://myabbc.ca/event/enji-maajtaawaad-earlyon-programming-2/
LOCATION:Enji-Maajtaawaad Early Years Program\, 330 Chippewa Road\, Muncey\, Ontario\, N0L 1Y0\, Canada
CATEGORIES:Calendar
ATTACH;FMTTYPE=image/jpeg:https://myabbc.ca/wp-content/uploads/2022/02/Unknown-2.jpeg
END:VEVENT
END:VCALENDAR